{"text_format":"1","workbook":"xlsx","n_sheets":2,"sheets":["Plan1","Plan2"],"not_rendered":{"charts":0,"images":41,"macros":0,"external_links":0,"defined_names":0,"comments":0,"pivot_tables":0},"unopened":[],"bounds":{"document_bytes":16777216,"sheet_cells":100000,"rows_first":2000,"rows_last":500,"rows_between":2000,"halvings":0,"cell_chars":16384,"cell_head_chars":4096},"cells_cut":0,"cells_raw":0,"read":"whole","date_system":"1900"}

{"sheet":"Plan1","index":0,"n_rows":65,"n_cols":34,"rows_kept":65,"cut":false,"hidden":false,"merged":[[2,21,2,22],[43,10,43,18],[50,0,50,18],[51,10,51,18],[58,0,58,18],[2,24,2,25],[2,27,2,28],[2,30,2,31],[59,10,59,18],[1,0,1,12],[42,0,42,18],[3,10,3,18],[2,0,2,18],[10,0,10,18],[11,10,11,18],[18,0,18,18],[19,10,19,18],[26,0,26,18],[27,10,27,18],[34,0,34,18],[35,10,35,18]]}
[]
["Copa do Mundo - Rússia 2018"]
["Grupo A",null,null,null,null,null,null,null,null,null,null,null,null,null,null,null,null,null,null,null,null,"Oitavas",null,null,"Quartas",null,null,"Semifinal",null,null,"Final"]
["2018-06-14",null,{"$f":"Plan2!C5","v":"Rússia"},null,null,"V",null,null,{"$f":"Plan2!C3","v":"Arábia Saudita"},null,"Classificação Grupo A"]
["2018-06-15",null,{"$f":"Plan2!C4","v":"Egito"},null,null,"V",null,null,{"$f":"Plan2!C6","v":"Uruguai"},null,"Seleções","JG","V","E","D","GP","GC","SG","PT"]
["2018-06-19",null,{"$f":"Plan2!C5","v":"Rússia"},null,null,"V",null,null,{"$f":"Plan2!C4","v":"Egito"},1,{"$f":"VLOOKUP($J6,Plan2!$B$2:$K$6,COLUMNS(Plan1!$K$5:K5)+1,FALSE)","v":"Arábia Saudita"},{"$f":"VLOOKUP($J6,Plan2!$B$2:$K$6,COLUMNS(Plan1!$K$5:L5)+1,FALSE)","v":0},{"$f":"VLOOKUP($J6,Plan2!$B$2:$K$6,COLUMNS(Plan1!$K$5:M5)+1,FALSE)","v":0},{"$f":"VLOOKUP($J6,Plan2!$B$2:$K$6,COLUMNS(Plan1!$K$5:N5)+1,FALSE)","v":0},{"$f":"VLOOKUP($J6,Plan2!$B$2:$K$6,COLUMNS(Plan1!$K$5:O5)+1,FALSE)","v":0},{"$f":"VLOOKUP($J6,Plan2!$B$2:$K$6,COLUMNS(Plan1!$K$5:P5)+1,FALSE)","v":0},{"$f":"VLOOKUP($J6,Plan2!$B$2:$K$6,COLUMNS(Plan1!$K$5:Q5)+1,FALSE)","v":0},{"$f":"VLOOKUP($J6,Plan2!$B$2:$K$6,COLUMNS(Plan1!$K$5:R5)+1,FALSE)","v":0},{"$f":"VLOOKUP($J6,Plan2!$B$2:$K$6,COLUMNS(Plan1!$K$5:S5)+1,FALSE)","v":0},null,null,{"$f":"IF(AND(L6=3,L7=3,L8=3,L9=3),K6,\"A Definir\")","v":"A Definir"}]
["2018-06-20",null,{"$f":"Plan2!C6","v":"Uruguai"},null,null,"V",null,null,{"$f":"Plan2!C3","v":"Arábia Saudita"},2,{"$f":"VLOOKUP($J7,Plan2!$B$2:$K$6,COLUMNS(Plan1!$K$5:K6)+1,FALSE)","v":"Egito"},{"$f":"VLOOKUP($J7,Plan2!$B$2:$K$6,COLUMNS(Plan1!$K$5:L6)+1,FALSE)","v":0},{"$f":"VLOOKUP($J7,Plan2!$B$2:$K$6,COLUMNS(Plan1!$K$5:M6)+1,FALSE)","v":0},{"$f":"VLOOKUP($J7,Plan2!$B$2:$K$6,COLUMNS(Plan1!$K$5:N6)+1,FALSE)","v":0},{"$f":"VLOOKUP($J7,Plan2!$B$2:$K$6,COLUMNS(Plan1!$K$5:O6)+1,FALSE)","v":0},{"$f":"VLOOKUP($J7,Plan2!$B$2:$K$6,COLUMNS(Plan1!$K$5:P6)+1,FALSE)","v":0},{"$f":"VLOOKUP($J7,Plan2!$B$2:$K$6,COLUMNS(Plan1!$K$5:Q6)+1,FALSE)","v":0},{"$f":"VLOOKUP($J7,Plan2!$B$2:$K$6,COLUMNS(Plan1!$K$5:R6)+1,FALSE)","v":0},{"$f":"VLOOKUP($J7,Plan2!$B$2:$K$6,COLUMNS(Plan1!$K$5:S6)+1,FALSE)","v":0},null,null,{"$f":"IF(AND(L14=3,L15=3,L16=3,L17=3),K15,\"A Definir\")","v":"A Definir"}]
["2018-06-25",null,{"$f":"Plan2!C6","v":"Uruguai"},null,null,"V",null,null,{"$f":"Plan2!C5","v":"Rússia"},3,{"$f":"VLOOKUP($J8,Plan2!$B$2:$K$6,COLUMNS(Plan1!$K$5:K7)+1,FALSE)","v":"Rússia"},{"$f":"VLOOKUP($J8,Plan2!$B$2:$K$6,COLUMNS(Plan1!$K$5:L7)+1,FALSE)","v":0},{"$f":"VLOOKUP($J8,Plan2!$B$2:$K$6,COLUMNS(Plan1!$K$5:M7)+1,FALSE)","v":0},{"$f":"VLOOKUP($J8,Plan2!$B$2:$K$6,COLUMNS(Plan1!$K$5:N7)+1,FALSE)","v":0},{"$f":"VLOOKUP($J8,Plan2!$B$2:$K$6,COLUMNS(Plan1!$K$5:O7)+1,FALSE)","v":0},{"$f":"VLOOKUP($J8,Plan2!$B$2:$K$6,COLUMNS(Plan1!$K$5:P7)+1,FALSE)","v":0},{"$f":"VLOOKUP($J8,Plan2!$B$2:$K$6,COLUMNS(Plan1!$K$5:Q7)+1,FALSE)","v":0},{"$f":"VLOOKUP($J8,Plan2!$B$2:$K$6,COLUMNS(Plan1!$K$5:R7)+1,FALSE)","v":0},{"$f":"VLOOKUP($J8,Plan2!$B$2:$K$6,COLUMNS(Plan1!$K$5:S7)+1,FALSE)","v":0},null,null,null,null,null,{"$f":"IF(W6>W7,V6,IF(W7>W6,V7,\"A Definir\"))","v":"A Definir"}]
["2018-06-25",null,{"$f":"Plan2!C3","v":"Arábia Saudita"},null,null,"V",null,null,{"$f":"Plan2!C4","v":"Egito"},4,{"$f":"VLOOKUP($J9,Plan2!$B$2:$K$6,COLUMNS(Plan1!$K$5:K8)+1,FALSE)","v":"Uruguai"},{"$f":"VLOOKUP($J9,Plan2!$B$2:$K$6,COLUMNS(Plan1!$K$5:L8)+1,FALSE)","v":0},{"$f":"VLOOKUP($J9,Plan2!$B$2:$K$6,COLUMNS(Plan1!$K$5:M8)+1,FALSE)","v":0},{"$f":"VLOOKUP($J9,Plan2!$B$2:$K$6,COLUMNS(Plan1!$K$5:N8)+1,FALSE)","v":0},{"$f":"VLOOKUP($J9,Plan2!$B$2:$K$6,COLUMNS(Plan1!$K$5:O8)+1,FALSE)","v":0},{"$f":"VLOOKUP($J9,Plan2!$B$2:$K$6,COLUMNS(Plan1!$K$5:P8)+1,FALSE)","v":0},{"$f":"VLOOKUP($J9,Plan2!$B$2:$K$6,COLUMNS(Plan1!$K$5:Q8)+1,FALSE)","v":0},{"$f":"VLOOKUP($J9,Plan2!$B$2:$K$6,COLUMNS(Plan1!$K$5:R8)+1,FALSE)","v":0},{"$f":"VLOOKUP($J9,Plan2!$B$2:$K$6,COLUMNS(Plan1!$K$5:S8)+1,FALSE)","v":0},null,null,null,null,null,{"$f":"IF(W10>W11,V10,IF(W11>W10,V11,\"A Definir\"))","v":"A Definir"}]
[null,null,null,null,null,null,null,null,null,null,null,null,null,null,null,null,null,null,null,null,null,{"$f":"IF(AND(L22=3,L23=3,L24=3,L25=3),K22,\"A Definir\")","v":"A Definir"}]
["Grupo B",null,null,null,null,null,null,null,null,null,null,null,null,null,null,null,null,null,null,null,null,{"$f":"IF(AND(L30=3,L31=3,L32=3,L33=3),K31,\"A Definir\")","v":"A Definir"}]
["2018-06-15",null,"Portugal",null,null,"V",null,null,"Espanha",null,"Classificação Grupo B",null,null,null,null,null,null,null,null,null,null,null,null,null,null,null,null,{"$f":"IF(Z8>Z9,Y8,IF(Z9>Z8,Y9,\"A Definir\"))","v":"A Definir"}]
["2018-06-15",null,"Marrocos",null,null,"V",null,null,"Irã",null,"Seleções","JG","V","E","D","GP","GC","SG","PT",null,null,null,null,null,null,null,null,{"$f":"IF(Z16>Z17,Y16,IF(Z17>Z16,Y17,\"A Definir\"))","v":"A Definir"}]
["2018-06-20",null,"Portugal",null,null,"V",null,null,"Marrocos",1,{"$f":"VLOOKUP($J14,Plan2!$B$12:$K$16,COLUMNS(Plan1!$K$13:K13)+1,FALSE)","v":"Irã"},{"$f":"VLOOKUP($J14,Plan2!$B$12:$K$16,COLUMNS(Plan1!$K$13:L13)+1,FALSE)","v":0},{"$f":"VLOOKUP($J14,Plan2!$B$12:$K$16,COLUMNS(Plan1!$K$13:M13)+1,FALSE)","v":0},{"$f":"VLOOKUP($J14,Plan2!$B$12:$K$16,COLUMNS(Plan1!$K$13:N13)+1,FALSE)","v":0},{"$f":"VLOOKUP($J14,Plan2!$B$12:$K$16,COLUMNS(Plan1!$K$13:O13)+1,FALSE)","v":0},{"$f":"VLOOKUP($J14,Plan2!$B$12:$K$16,COLUMNS(Plan1!$K$13:P13)+1,FALSE)","v":0},{"$f":"VLOOKUP($J14,Plan2!$B$12:$K$16,COLUMNS(Plan1!$K$13:Q13)+1,FALSE)","v":0},{"$f":"VLOOKUP($J14,Plan2!$B$12:$K$16,COLUMNS(Plan1!$K$13:R13)+1,FALSE)","v":0},{"$f":"VLOOKUP($J14,Plan2!$B$12:$K$16,COLUMNS(Plan1!$K$13:S13)+1,FALSE)","v":0},null,null,{"$f":"IF(AND(L38=3,L39=3,L40=3,L41=3),K38,\"A Definir\")","v":"A Definir"}]
["2018-06-20",null,"Irã",null,null,"V",null,null,"Espanha",2,{"$f":"VLOOKUP($J15,Plan2!$B$12:$K$16,COLUMNS(Plan1!$K$13:K14)+1,FALSE)","v":"Espanha"},{"$f":"VLOOKUP($J15,Plan2!$B$12:$K$16,COLUMNS(Plan1!$K$13:L14)+1,FALSE)","v":0},{"$f":"VLOOKUP($J15,Plan2!$B$12:$K$16,COLUMNS(Plan1!$K$13:M14)+1,FALSE)","v":0},{"$f":"VLOOKUP($J15,Plan2!$B$12:$K$16,COLUMNS(Plan1!$K$13:N14)+1,FALSE)","v":0},{"$f":"VLOOKUP($J15,Plan2!$B$12:$K$16,COLUMNS(Plan1!$K$13:O14)+1,FALSE)","v":0},{"$f":"VLOOKUP($J15,Plan2!$B$12:$K$16,COLUMNS(Plan1!$K$13:P14)+1,FALSE)","v":0},{"$f":"VLOOKUP($J15,Plan2!$B$12:$K$16,COLUMNS(Plan1!$K$13:Q14)+1,FALSE)","v":0},{"$f":"VLOOKUP($J15,Plan2!$B$12:$K$16,COLUMNS(Plan1!$K$13:R14)+1,FALSE)","v":0},{"$f":"VLOOKUP($J15,Plan2!$B$12:$K$16,COLUMNS(Plan1!$K$13:S14)+1,FALSE)","v":0},null,null,{"$f":"IF(AND(L46=3,L47=3,L48=3,L49=3),K47,\"A Definir\")","v":"A Definir"}]
["2018-06-25",null,"Irã",null,null,"V",null,null,"Portugal",3,{"$f":"VLOOKUP($J16,Plan2!$B$12:$K$16,COLUMNS(Plan1!$K$13:K15)+1,FALSE)","v":"Marrocos"},{"$f":"VLOOKUP($J16,Plan2!$B$12:$K$16,COLUMNS(Plan1!$K$13:L15)+1,FALSE)","v":0},{"$f":"VLOOKUP($J16,Plan2!$B$12:$K$16,COLUMNS(Plan1!$K$13:M15)+1,FALSE)","v":0},{"$f":"VLOOKUP($J16,Plan2!$B$12:$K$16,COLUMNS(Plan1!$K$13:N15)+1,FALSE)","v":0},{"$f":"VLOOKUP($J16,Plan2!$B$12:$K$16,COLUMNS(Plan1!$K$13:O15)+1,FALSE)","v":0},{"$f":"VLOOKUP($J16,Plan2!$B$12:$K$16,COLUMNS(Plan1!$K$13:P15)+1,FALSE)","v":0},{"$f":"VLOOKUP($J16,Plan2!$B$12:$K$16,COLUMNS(Plan1!$K$13:Q15)+1,FALSE)","v":0},{"$f":"VLOOKUP($J16,Plan2!$B$12:$K$16,COLUMNS(Plan1!$K$13:R15)+1,FALSE)","v":0},{"$f":"VLOOKUP($J16,Plan2!$B$12:$K$16,COLUMNS(Plan1!$K$13:S15)+1,FALSE)","v":0},null,null,null,null,null,{"$f":"IF(W14>W15,V14,IF(W15>W14,V15,\"A Definir\"))","v":"A Definir"}]
["2018-06-25",null,"Espanha",null,null,"V",null,null,"Marrocos",4,{"$f":"VLOOKUP($J17,Plan2!$B$12:$K$16,COLUMNS(Plan1!$K$13:K16)+1,FALSE)","v":"Portugal"},{"$f":"VLOOKUP($J17,Plan2!$B$12:$K$16,COLUMNS(Plan1!$K$13:L16)+1,FALSE)","v":0},{"$f":"VLOOKUP($J17,Plan2!$B$12:$K$16,COLUMNS(Plan1!$K$13:M16)+1,FALSE)","v":0},{"$f":"VLOOKUP($J17,Plan2!$B$12:$K$16,COLUMNS(Plan1!$K$13:N16)+1,FALSE)","v":0},{"$f":"VLOOKUP($J17,Plan2!$B$12:$K$16,COLUMNS(Plan1!$K$13:O16)+1,FALSE)","v":0},{"$f":"VLOOKUP($J17,Plan2!$B$12:$K$16,COLUMNS(Plan1!$K$13:P16)+1,FALSE)","v":0},{"$f":"VLOOKUP($J17,Plan2!$B$12:$K$16,COLUMNS(Plan1!$K$13:Q16)+1,FALSE)","v":0},{"$f":"VLOOKUP($J17,Plan2!$B$12:$K$16,COLUMNS(Plan1!$K$13:R16)+1,FALSE)","v":0},{"$f":"VLOOKUP($J17,Plan2!$B$12:$K$16,COLUMNS(Plan1!$K$13:S16)+1,FALSE)","v":0},null,null,null,null,null,{"$f":"IF(W18>W19,V18,IF(W19>W18,V19,\"A Definir\"))","v":"A Definir"}]
[null,null,null,null,null,null,null,null,null,null,null,null,null,null,null,null,null,null,null,null,null,{"$f":"IF(AND(L54=3,L55=3,L56=3,L57=3),K54,\"A Definir\")","v":"A Definir"}]
["Grupo C",null,null,null,null,null,null,null,null,null,null,null,null,null,null,null,null,null,null,null,null,{"$f":"IF(AND(L62=3,L63=3,L64=3,L65=3),K63,\"A Definir\")","v":"A Definir"}]
["2018-06-16",null,"França",null,null,"V",null,null,"Austrália",null,"Classificação Grupo C"]
["2018-06-16",null,"Peru",null,null,"V",null,null,"Dinamarca",null,"Seleções","JG","V","E","D","GP","GC","SG","PT",null,null,null,null,null,null,null,null,null,null,null,{"$f":"IF(AC12>AC13,AB12,IF(AC13>AC12,AB13,\"A Definir\"))","v":"A Definir"}]
["2018-06-21",null,"França",null,null,"V",null,null,"Peru",1,{"$f":"VLOOKUP($J22,Plan2!$B$23:$K$27,COLUMNS(Plan1!$K$21:K21)+1,FALSE)","v":"Peru"},{"$f":"VLOOKUP($J22,Plan2!$B$23:$K$27,COLUMNS(Plan1!$K$21:L21)+1,FALSE)","v":0},{"$f":"VLOOKUP($J22,Plan2!$B$23:$K$27,COLUMNS(Plan1!$K$21:M21)+1,FALSE)","v":0},{"$f":"VLOOKUP($J22,Plan2!$B$23:$K$27,COLUMNS(Plan1!$K$21:N21)+1,FALSE)","v":0},{"$f":"VLOOKUP($J22,Plan2!$B$23:$K$27,COLUMNS(Plan1!$K$21:O21)+1,FALSE)","v":0},{"$f":"VLOOKUP($J22,Plan2!$B$23:$K$27,COLUMNS(Plan1!$K$21:P21)+1,FALSE)","v":0},{"$f":"VLOOKUP($J22,Plan2!$B$23:$K$27,COLUMNS(Plan1!$K$21:Q21)+1,FALSE)","v":0},{"$f":"VLOOKUP($J22,Plan2!$B$23:$K$27,COLUMNS(Plan1!$K$21:R21)+1,FALSE)","v":0},{"$f":"VLOOKUP($J22,Plan2!$B$23:$K$27,COLUMNS(Plan1!$K$21:S21)+1,FALSE)","v":0},null,null,{"$f":"IF(AND(L14=3,L15=3,L16=3,L17=3),K14,\"A Definir\")","v":"A Definir"},null,null,null,null,null,null,null,null,{"$f":"IF(AC28>AC29,AB28,IF(AC29>AC28,AB29,\"A Definir\"))","v":"A Definir"},null,null,{"$f":"IF(AF21>AF22,AE21,IF(AF22>AF21,AE22,\"\"))","v":""}]
["2018-06-21",null,"Dinamarca",null,null,"V",null,null,"Austrália",2,{"$f":"VLOOKUP($J23,Plan2!$B$23:$K$27,COLUMNS(Plan1!$K$21:K22)+1,FALSE)","v":"Dinamarca"},{"$f":"VLOOKUP($J23,Plan2!$B$23:$K$27,COLUMNS(Plan1!$K$21:L22)+1,FALSE)","v":0},{"$f":"VLOOKUP($J23,Plan2!$B$23:$K$27,COLUMNS(Plan1!$K$21:M22)+1,FALSE)","v":0},{"$f":"VLOOKUP($J23,Plan2!$B$23:$K$27,COLUMNS(Plan1!$K$21:N22)+1,FALSE)","v":0},{"$f":"VLOOKUP($J23,Plan2!$B$23:$K$27,COLUMNS(Plan1!$K$21:O22)+1,FALSE)","v":0},{"$f":"VLOOKUP($J23,Plan2!$B$23:$K$27,COLUMNS(Plan1!$K$21:P22)+1,FALSE)","v":0},{"$f":"VLOOKUP($J23,Plan2!$B$23:$K$27,COLUMNS(Plan1!$K$21:Q22)+1,FALSE)","v":0},{"$f":"VLOOKUP($J23,Plan2!$B$23:$K$27,COLUMNS(Plan1!$K$21:R22)+1,FALSE)","v":0},{"$f":"VLOOKUP($J23,Plan2!$B$23:$K$27,COLUMNS(Plan1!$K$21:S22)+1,FALSE)","v":0},null,null,{"$f":"IF(AND(L6=3,L7=3,L8=3,L9=3),K7,\"A Definir\")","v":"A Definir"}]
["2018-06-26",null,"Dinamarca",null,null,"V",null,null,"França",3,{"$f":"VLOOKUP($J24,Plan2!$B$23:$K$27,COLUMNS(Plan1!$K$21:K23)+1,FALSE)","v":"Austrália"},{"$f":"VLOOKUP($J24,Plan2!$B$23:$K$27,COLUMNS(Plan1!$K$21:L23)+1,FALSE)","v":0},{"$f":"VLOOKUP($J24,Plan2!$B$23:$K$27,COLUMNS(Plan1!$K$21:M23)+1,FALSE)","v":0},{"$f":"VLOOKUP($J24,Plan2!$B$23:$K$27,COLUMNS(Plan1!$K$21:N23)+1,FALSE)","v":0},{"$f":"VLOOKUP($J24,Plan2!$B$23:$K$27,COLUMNS(Plan1!$K$21:O23)+1,FALSE)","v":0},{"$f":"VLOOKUP($J24,Plan2!$B$23:$K$27,COLUMNS(Plan1!$K$21:P23)+1,FALSE)","v":0},{"$f":"VLOOKUP($J24,Plan2!$B$23:$K$27,COLUMNS(Plan1!$K$21:Q23)+1,FALSE)","v":0},{"$f":"VLOOKUP($J24,Plan2!$B$23:$K$27,COLUMNS(Plan1!$K$21:R23)+1,FALSE)","v":0},{"$f":"VLOOKUP($J24,Plan2!$B$23:$K$27,COLUMNS(Plan1!$K$21:S23)+1,FALSE)","v":0},null,null,null,null,null,{"$f":"IF(W22>W23,V22,IF(W23>W22,V23,\"A Definir\"))","v":"A Definir"}]
["2018-06-26",null,"Austrália",null,null,"V",null,null,"Peru",4,{"$f":"VLOOKUP($J25,Plan2!$B$23:$K$27,COLUMNS(Plan1!$K$21:K24)+1,FALSE)","v":"França"},{"$f":"VLOOKUP($J25,Plan2!$B$23:$K$27,COLUMNS(Plan1!$K$21:L24)+1,FALSE)","v":0},{"$f":"VLOOKUP($J25,Plan2!$B$23:$K$27,COLUMNS(Plan1!$K$21:M24)+1,FALSE)","v":0},{"$f":"VLOOKUP($J25,Plan2!$B$23:$K$27,COLUMNS(Plan1!$K$21:N24)+1,FALSE)","v":0},{"$f":"VLOOKUP($J25,Plan2!$B$23:$K$27,COLUMNS(Plan1!$K$21:O24)+1,FALSE)","v":0},{"$f":"VLOOKUP($J25,Plan2!$B$23:$K$27,COLUMNS(Plan1!$K$21:P24)+1,FALSE)","v":0},{"$f":"VLOOKUP($J25,Plan2!$B$23:$K$27,COLUMNS(Plan1!$K$21:Q24)+1,FALSE)","v":0},{"$f":"VLOOKUP($J25,Plan2!$B$23:$K$27,COLUMNS(Plan1!$K$21:R24)+1,FALSE)","v":0},{"$f":"VLOOKUP($J25,Plan2!$B$23:$K$27,COLUMNS(Plan1!$K$21:S24)+1,FALSE)","v":0},null,null,null,null,null,{"$f":"IF(W26>W27,V26,IF(W27>W26,V27,\"A Definir\"))","v":"A Definir"}]
[null,null,null,null,null,null,null,null,null,null,null,null,null,null,null,null,null,null,null,null,null,{"$f":"IF(AND(L30=3,L31=3,L32=3,L33=3),K30,\"A Definir\")","v":"A Definir"}]
["Grupo D",null,null,null,null,null,null,null,null,null,null,null,null,null,null,null,null,null,null,null,null,{"$f":"IF(AND(L22=3,L23=3,L24=3,L25=3),K23,\"A Definir\")","v":"A Definir"}]
["2018-06-16",null,"Argentina",null,null,"V",null,null,"Islândia",null,"Classificação Grupo D",null,null,null,null,null,null,null,null,null,null,null,null,null,null,null,null,{"$f":"IF(Z24>Z25,Y24,IF(Z25>Z24,Y25,\"A Definir\"))","v":"A Definir"}]
["2018-06-16",null,"Croácia",null,null,"V",null,null,"Nigéria",null,"Seleções","JG","V","E","D","GP","GC","SG","PT",null,null,null,null,null,null,null,null,{"$f":"IF(Z32>Z33,Y32,IF(Z33>Z32,Y33,\"A Definir\"))","v":"A Definir"}]
["2018-06-22",null,"Argentina",null,null,"V",null,null,"Croácia",1,{"$f":"VLOOKUP($J30,Plan2!$B$33:$K$37,COLUMNS(Plan1!$K$30:K30)+1,FALSE)","v":"Islândia"},{"$f":"VLOOKUP($J30,Plan2!$B$33:$K$37,COLUMNS(Plan1!$K$30:L30)+1,FALSE)","v":0},{"$f":"VLOOKUP($J30,Plan2!$B$33:$K$37,COLUMNS(Plan1!$K$30:M30)+1,FALSE)","v":0},{"$f":"VLOOKUP($J30,Plan2!$B$33:$K$37,COLUMNS(Plan1!$K$30:N30)+1,FALSE)","v":0},{"$f":"VLOOKUP($J30,Plan2!$B$33:$K$37,COLUMNS(Plan1!$K$30:O30)+1,FALSE)","v":0},{"$f":"VLOOKUP($J30,Plan2!$B$33:$K$37,COLUMNS(Plan1!$K$30:P30)+1,FALSE)","v":0},{"$f":"VLOOKUP($J30,Plan2!$B$33:$K$37,COLUMNS(Plan1!$K$30:Q30)+1,FALSE)","v":0},{"$f":"VLOOKUP($J30,Plan2!$B$33:$K$37,COLUMNS(Plan1!$K$30:R30)+1,FALSE)","v":0},{"$f":"VLOOKUP($J30,Plan2!$B$33:$K$37,COLUMNS(Plan1!$K$30:S30)+1,FALSE)","v":0},null,null,{"$f":"IF(AND(L46=3,L47=3,L48=3,L49=3),K46,\"A Definir\")","v":"A Definir"}]
["2018-06-22",null,"Nigéria",null,null,"V",null,null,"Islândia",2,{"$f":"VLOOKUP($J31,Plan2!$B$33:$K$37,COLUMNS(Plan1!$K$30:K31)+1,FALSE)","v":"Croácia"},{"$f":"VLOOKUP($J31,Plan2!$B$33:$K$37,COLUMNS(Plan1!$K$30:L31)+1,FALSE)","v":0},{"$f":"VLOOKUP($J31,Plan2!$B$33:$K$37,COLUMNS(Plan1!$K$30:M31)+1,FALSE)","v":0},{"$f":"VLOOKUP($J31,Plan2!$B$33:$K$37,COLUMNS(Plan1!$K$30:N31)+1,FALSE)","v":0},{"$f":"VLOOKUP($J31,Plan2!$B$33:$K$37,COLUMNS(Plan1!$K$30:O31)+1,FALSE)","v":0},{"$f":"VLOOKUP($J31,Plan2!$B$33:$K$37,COLUMNS(Plan1!$K$30:P31)+1,FALSE)","v":0},{"$f":"VLOOKUP($J31,Plan2!$B$33:$K$37,COLUMNS(Plan1!$K$30:Q31)+1,FALSE)","v":0},{"$f":"VLOOKUP($J31,Plan2!$B$33:$K$37,COLUMNS(Plan1!$K$30:R31)+1,FALSE)","v":0},{"$f":"VLOOKUP($J31,Plan2!$B$33:$K$37,COLUMNS(Plan1!$K$30:S31)+1,FALSE)","v":0},null,null,{"$f":"IF(AND(L38=3,L39=3,L40=3,L41=3),K39,\"A Definir\")","v":"A Definir"}]
["2018-06-26",null,"Nigéria",null,null,"V",null,null,"Argentina",3,{"$f":"VLOOKUP($J32,Plan2!$B$33:$K$37,COLUMNS(Plan1!$K$30:K32)+1,FALSE)","v":"Argentina"},{"$f":"VLOOKUP($J32,Plan2!$B$33:$K$37,COLUMNS(Plan1!$K$30:L32)+1,FALSE)","v":0},{"$f":"VLOOKUP($J32,Plan2!$B$33:$K$37,COLUMNS(Plan1!$K$30:M32)+1,FALSE)","v":0},{"$f":"VLOOKUP($J32,Plan2!$B$33:$K$37,COLUMNS(Plan1!$K$30:N32)+1,FALSE)","v":0},{"$f":"VLOOKUP($J32,Plan2!$B$33:$K$37,COLUMNS(Plan1!$K$30:O32)+1,FALSE)","v":0},{"$f":"VLOOKUP($J32,Plan2!$B$33:$K$37,COLUMNS(Plan1!$K$30:P32)+1,FALSE)","v":0},{"$f":"VLOOKUP($J32,Plan2!$B$33:$K$37,COLUMNS(Plan1!$K$30:Q32)+1,FALSE)","v":0},{"$f":"VLOOKUP($J32,Plan2!$B$33:$K$37,COLUMNS(Plan1!$K$30:R32)+1,FALSE)","v":0},{"$f":"VLOOKUP($J32,Plan2!$B$33:$K$37,COLUMNS(Plan1!$K$30:S32)+1,FALSE)","v":0},null,null,null,null,null,{"$f":"IF(W30>W31,V30,IF(W31>W30,V31,\"A Definir\"))","v":"A Definir"}]
["2018-06-26",null,"Islândia",null,null,"V",null,null,"Croácia",4,{"$f":"VLOOKUP($J33,Plan2!$B$33:$K$37,COLUMNS(Plan1!$K$30:K33)+1,FALSE)","v":"Nigéria"},{"$f":"VLOOKUP($J33,Plan2!$B$33:$K$37,COLUMNS(Plan1!$K$30:L33)+1,FALSE)","v":0},{"$f":"VLOOKUP($J33,Plan2!$B$33:$K$37,COLUMNS(Plan1!$K$30:M33)+1,FALSE)","v":0},{"$f":"VLOOKUP($J33,Plan2!$B$33:$K$37,COLUMNS(Plan1!$K$30:N33)+1,FALSE)","v":0},{"$f":"VLOOKUP($J33,Plan2!$B$33:$K$37,COLUMNS(Plan1!$K$30:O33)+1,FALSE)","v":0},{"$f":"VLOOKUP($J33,Plan2!$B$33:$K$37,COLUMNS(Plan1!$K$30:P33)+1,FALSE)","v":0},{"$f":"VLOOKUP($J33,Plan2!$B$33:$K$37,COLUMNS(Plan1!$K$30:Q33)+1,FALSE)","v":0},{"$f":"VLOOKUP($J33,Plan2!$B$33:$K$37,COLUMNS(Plan1!$K$30:R33)+1,FALSE)","v":0},{"$f":"VLOOKUP($J33,Plan2!$B$33:$K$37,COLUMNS(Plan1!$K$30:S33)+1,FALSE)","v":0},null,null,null,null,null,{"$f":"IF(W34>W35,V34,IF(W35>W34,V35,\"A Definir\"))","v":"A Definir"}]
[null,null,null,null,null,null,null,null,null,null,null,null,null,null,null,null,null,null,null,null,null,{"$f":"IF(AND(L62=3,L63=3,L64=3,L65=3),K62,\"A Definir\")","v":"A Definir"}]
["Grupo E",null,null,null,null,null,null,null,null,null,null,null,null,null,null,null,null,null,null,null,null,{"$f":"IF(AND(L54=3,L55=3,L56=3,L57=3),K55,\"A Definir\")","v":"A Definir"}]
["2018-06-17",null,"Brasil",null,null,"V",null,null,"Suíça",null,"Classificação Grupo E"]
["2018-06-17",null,"Costa Rica",null,null,"V",null,null,"Sérvia",null,"Seleções","JG","V","E","D","GP","GC","SG","PT"]
["2018-06-22",null,"Brasil",null,null,"V",null,null,"Costa Rica",1,{"$f":"VLOOKUP($J38,Plan2!$B$45:$K$48,COLUMNS(Plan1!$K$38:K38)+1,FALSE)","v":"Suíça"},{"$f":"VLOOKUP($J38,Plan2!$B$45:$K$48,COLUMNS(Plan1!$K$38:L38)+1,FALSE)","v":0},{"$f":"VLOOKUP($J38,Plan2!$B$45:$K$48,COLUMNS(Plan1!$K$38:M38)+1,FALSE)","v":0},{"$f":"VLOOKUP($J38,Plan2!$B$45:$K$48,COLUMNS(Plan1!$K$38:N38)+1,FALSE)","v":0},{"$f":"VLOOKUP($J38,Plan2!$B$45:$K$48,COLUMNS(Plan1!$K$38:O38)+1,FALSE)","v":0},{"$f":"VLOOKUP($J38,Plan2!$B$45:$K$48,COLUMNS(Plan1!$K$38:P38)+1,FALSE)","v":0},{"$f":"VLOOKUP($J38,Plan2!$B$45:$K$48,COLUMNS(Plan1!$K$38:Q38)+1,FALSE)","v":0},{"$f":"VLOOKUP($J38,Plan2!$B$45:$K$48,COLUMNS(Plan1!$K$38:R38)+1,FALSE)","v":0},{"$f":"VLOOKUP($J38,Plan2!$B$45:$K$48,COLUMNS(Plan1!$K$38:S38)+1,FALSE)","v":0}]
["2018-06-22",null,"Sérvia",null,null,"V",null,null,"Suíça",2,{"$f":"VLOOKUP($J39,Plan2!$B$45:$K$48,COLUMNS(Plan1!$K$38:K39)+1,FALSE)","v":"Brasil"},{"$f":"VLOOKUP($J39,Plan2!$B$45:$K$48,COLUMNS(Plan1!$K$38:L39)+1,FALSE)","v":0},{"$f":"VLOOKUP($J39,Plan2!$B$45:$K$48,COLUMNS(Plan1!$K$38:M39)+1,FALSE)","v":0},{"$f":"VLOOKUP($J39,Plan2!$B$45:$K$48,COLUMNS(Plan1!$K$38:N39)+1,FALSE)","v":0},{"$f":"VLOOKUP($J39,Plan2!$B$45:$K$48,COLUMNS(Plan1!$K$38:O39)+1,FALSE)","v":0},{"$f":"VLOOKUP($J39,Plan2!$B$45:$K$48,COLUMNS(Plan1!$K$38:P39)+1,FALSE)","v":0},{"$f":"VLOOKUP($J39,Plan2!$B$45:$K$48,COLUMNS(Plan1!$K$38:Q39)+1,FALSE)","v":0},{"$f":"VLOOKUP($J39,Plan2!$B$45:$K$48,COLUMNS(Plan1!$K$38:R39)+1,FALSE)","v":0},{"$f":"VLOOKUP($J39,Plan2!$B$45:$K$48,COLUMNS(Plan1!$K$38:S39)+1,FALSE)","v":0}]
["2018-06-27",null,"Sérvia",null,null,"V",null,null,"Brasil",3,{"$f":"VLOOKUP($J40,Plan2!$B$45:$K$48,COLUMNS(Plan1!$K$38:K40)+1,FALSE)","v":"Costa Rica"},{"$f":"VLOOKUP($J40,Plan2!$B$45:$K$48,COLUMNS(Plan1!$K$38:L40)+1,FALSE)","v":0},{"$f":"VLOOKUP($J40,Plan2!$B$45:$K$48,COLUMNS(Plan1!$K$38:M40)+1,FALSE)","v":0},{"$f":"VLOOKUP($J40,Plan2!$B$45:$K$48,COLUMNS(Plan1!$K$38:N40)+1,FALSE)","v":0},{"$f":"VLOOKUP($J40,Plan2!$B$45:$K$48,COLUMNS(Plan1!$K$38:O40)+1,FALSE)","v":0},{"$f":"VLOOKUP($J40,Plan2!$B$45:$K$48,COLUMNS(Plan1!$K$38:P40)+1,FALSE)","v":0},{"$f":"VLOOKUP($J40,Plan2!$B$45:$K$48,COLUMNS(Plan1!$K$38:Q40)+1,FALSE)","v":0},{"$f":"VLOOKUP($J40,Plan2!$B$45:$K$48,COLUMNS(Plan1!$K$38:R40)+1,FALSE)","v":0},{"$f":"VLOOKUP($J40,Plan2!$B$45:$K$48,COLUMNS(Plan1!$K$38:S40)+1,FALSE)","v":0}]
["2018-06-27",null,"Suíça",null,null,"V",null,null,"Costa Rica",4,{"$f":"VLOOKUP($J41,Plan2!$B$45:$K$48,COLUMNS(Plan1!$K$38:K41)+1,FALSE)","v":"Sérvia"},{"$f":"VLOOKUP($J41,Plan2!$B$45:$K$48,COLUMNS(Plan1!$K$38:L41)+1,FALSE)","v":0},{"$f":"VLOOKUP($J41,Plan2!$B$45:$K$48,COLUMNS(Plan1!$K$38:M41)+1,FALSE)","v":0},{"$f":"VLOOKUP($J41,Plan2!$B$45:$K$48,COLUMNS(Plan1!$K$38:N41)+1,FALSE)","v":0},{"$f":"VLOOKUP($J41,Plan2!$B$45:$K$48,COLUMNS(Plan1!$K$38:O41)+1,FALSE)","v":0},{"$f":"VLOOKUP($J41,Plan2!$B$45:$K$48,COLUMNS(Plan1!$K$38:P41)+1,FALSE)","v":0},{"$f":"VLOOKUP($J41,Plan2!$B$45:$K$48,COLUMNS(Plan1!$K$38:Q41)+1,FALSE)","v":0},{"$f":"VLOOKUP($J41,Plan2!$B$45:$K$48,COLUMNS(Plan1!$K$38:R41)+1,FALSE)","v":0},{"$f":"VLOOKUP($J41,Plan2!$B$45:$K$48,COLUMNS(Plan1!$K$38:S41)+1,FALSE)","v":0}]
[]
["Grupo F"]
["2018-06-17",null,"Alemanha",null,null,"V",null,null,"México",null,"Classificação Grupo F"]
["2018-06-18",null,"Suécia",null,null,"V",null,null,"Coréia do Sul",null,"Seleções","JG","V","E","D","GP","GC","SG","PT"]
["2018-06-23",null,"Alemanha",null,null,"V",null,null,"Suécia",1,{"$f":"VLOOKUP($J46,Plan2!$B$55:$K$58,COLUMNS(Plan1!$K$46:K46)+1,FALSE)","v":"Alemanha"},{"$f":"VLOOKUP($J46,Plan2!$B$55:$K$58,COLUMNS(Plan1!$K$46:L46)+1,FALSE)","v":0},{"$f":"VLOOKUP($J46,Plan2!$B$55:$K$58,COLUMNS(Plan1!$K$46:M46)+1,FALSE)","v":0},{"$f":"VLOOKUP($J46,Plan2!$B$55:$K$58,COLUMNS(Plan1!$K$46:N46)+1,FALSE)","v":0},{"$f":"VLOOKUP($J46,Plan2!$B$55:$K$58,COLUMNS(Plan1!$K$46:O46)+1,FALSE)","v":0},{"$f":"VLOOKUP($J46,Plan2!$B$55:$K$58,COLUMNS(Plan1!$K$46:P46)+1,FALSE)","v":0},{"$f":"VLOOKUP($J46,Plan2!$B$55:$K$58,COLUMNS(Plan1!$K$46:Q46)+1,FALSE)","v":0},{"$f":"VLOOKUP($J46,Plan2!$B$55:$K$58,COLUMNS(Plan1!$K$46:R46)+1,FALSE)","v":0},{"$f":"VLOOKUP($J46,Plan2!$B$55:$K$58,COLUMNS(Plan1!$K$46:S46)+1,FALSE)","v":0}]
["2018-06-23",null,"Coréia do Sul",null,null,"V",null,null,"México",2,{"$f":"VLOOKUP($J47,Plan2!$B$55:$K$58,COLUMNS(Plan1!$K$46:K47)+1,FALSE)","v":"México"},{"$f":"VLOOKUP($J47,Plan2!$B$55:$K$58,COLUMNS(Plan1!$K$46:L47)+1,FALSE)","v":0},{"$f":"VLOOKUP($J47,Plan2!$B$55:$K$58,COLUMNS(Plan1!$K$46:M47)+1,FALSE)","v":0},{"$f":"VLOOKUP($J47,Plan2!$B$55:$K$58,COLUMNS(Plan1!$K$46:N47)+1,FALSE)","v":0},{"$f":"VLOOKUP($J47,Plan2!$B$55:$K$58,COLUMNS(Plan1!$K$46:O47)+1,FALSE)","v":0},{"$f":"VLOOKUP($J47,Plan2!$B$55:$K$58,COLUMNS(Plan1!$K$46:P47)+1,FALSE)","v":0},{"$f":"VLOOKUP($J47,Plan2!$B$55:$K$58,COLUMNS(Plan1!$K$46:Q47)+1,FALSE)","v":0},{"$f":"VLOOKUP($J47,Plan2!$B$55:$K$58,COLUMNS(Plan1!$K$46:R47)+1,FALSE)","v":0},{"$f":"VLOOKUP($J47,Plan2!$B$55:$K$58,COLUMNS(Plan1!$K$46:S47)+1,FALSE)","v":0}]
["2018-06-27",null,"Coréia do Sul",null,null,"V",null,null,"Alemanha",3,{"$f":"VLOOKUP($J48,Plan2!$B$55:$K$58,COLUMNS(Plan1!$K$46:K48)+1,FALSE)","v":"Coréia do Sul"},{"$f":"VLOOKUP($J48,Plan2!$B$55:$K$58,COLUMNS(Plan1!$K$46:L48)+1,FALSE)","v":0},{"$f":"VLOOKUP($J48,Plan2!$B$55:$K$58,COLUMNS(Plan1!$K$46:M48)+1,FALSE)","v":0},{"$f":"VLOOKUP($J48,Plan2!$B$55:$K$58,COLUMNS(Plan1!$K$46:N48)+1,FALSE)","v":0},{"$f":"VLOOKUP($J48,Plan2!$B$55:$K$58,COLUMNS(Plan1!$K$46:O48)+1,FALSE)","v":0},{"$f":"VLOOKUP($J48,Plan2!$B$55:$K$58,COLUMNS(Plan1!$K$46:P48)+1,FALSE)","v":0},{"$f":"VLOOKUP($J48,Plan2!$B$55:$K$58,COLUMNS(Plan1!$K$46:Q48)+1,FALSE)","v":0},{"$f":"VLOOKUP($J48,Plan2!$B$55:$K$58,COLUMNS(Plan1!$K$46:R48)+1,FALSE)","v":0},{"$f":"VLOOKUP($J48,Plan2!$B$55:$K$58,COLUMNS(Plan1!$K$46:S48)+1,FALSE)","v":0}]
["2018-06-27",null,"México",null,null,"V",null,null,"Suécia",4,{"$f":"VLOOKUP($J49,Plan2!$B$55:$K$58,COLUMNS(Plan1!$K$46:K49)+1,FALSE)","v":"Suécia"},{"$f":"VLOOKUP($J49,Plan2!$B$55:$K$58,COLUMNS(Plan1!$K$46:L49)+1,FALSE)","v":0},{"$f":"VLOOKUP($J49,Plan2!$B$55:$K$58,COLUMNS(Plan1!$K$46:M49)+1,FALSE)","v":0},{"$f":"VLOOKUP($J49,Plan2!$B$55:$K$58,COLUMNS(Plan1!$K$46:N49)+1,FALSE)","v":0},{"$f":"VLOOKUP($J49,Plan2!$B$55:$K$58,COLUMNS(Plan1!$K$46:O49)+1,FALSE)","v":0},{"$f":"VLOOKUP($J49,Plan2!$B$55:$K$58,COLUMNS(Plan1!$K$46:P49)+1,FALSE)","v":0},{"$f":"VLOOKUP($J49,Plan2!$B$55:$K$58,COLUMNS(Plan1!$K$46:Q49)+1,FALSE)","v":0},{"$f":"VLOOKUP($J49,Plan2!$B$55:$K$58,COLUMNS(Plan1!$K$46:R49)+1,FALSE)","v":0},{"$f":"VLOOKUP($J49,Plan2!$B$55:$K$58,COLUMNS(Plan1!$K$46:S49)+1,FALSE)","v":0}]
[]
["Grupo G"]
["2018-06-18",null,"Bélgica",null,null,"V",null,null,"Panamá",null,"Classificação Grupo G"]
["2018-06-18",null,"Tunísia",null,null,"V",null,null,"Inglaterra",null,"Seleções","JG","V","E","D","GP","GC","SG","PT"]
["2018-06-23",null,"Bélgica",null,null,"V",null,null,"Tunísia",1,{"$f":"VLOOKUP($J54,Plan2!$B$65:$K$68,COLUMNS(Plan1!$K$54:K54)+1,FALSE)","v":"Bélgica"},{"$f":"VLOOKUP($J54,Plan2!$B$65:$K$68,COLUMNS(Plan1!$K$54:L54)+1,FALSE)","v":0},{"$f":"VLOOKUP($J54,Plan2!$B$65:$K$68,COLUMNS(Plan1!$K$54:M54)+1,FALSE)","v":0},{"$f":"VLOOKUP($J54,Plan2!$B$65:$K$68,COLUMNS(Plan1!$K$54:N54)+1,FALSE)","v":0},{"$f":"VLOOKUP($J54,Plan2!$B$65:$K$68,COLUMNS(Plan1!$K$54:O54)+1,FALSE)","v":0},{"$f":"VLOOKUP($J54,Plan2!$B$65:$K$68,COLUMNS(Plan1!$K$54:P54)+1,FALSE)","v":0},{"$f":"VLOOKUP($J54,Plan2!$B$65:$K$68,COLUMNS(Plan1!$K$54:Q54)+1,FALSE)","v":0},{"$f":"VLOOKUP($J54,Plan2!$B$65:$K$68,COLUMNS(Plan1!$K$54:R54)+1,FALSE)","v":0},{"$f":"VLOOKUP($J54,Plan2!$B$65:$K$68,COLUMNS(Plan1!$K$54:S54)+1,FALSE)","v":0}]
["2018-06-24",null,"Inglaterra",null,null,"V",null,null,"Panamá",2,{"$f":"VLOOKUP($J55,Plan2!$B$65:$K$68,COLUMNS(Plan1!$K$54:K55)+1,FALSE)","v":"Inglaterra"},{"$f":"VLOOKUP($J55,Plan2!$B$65:$K$68,COLUMNS(Plan1!$K$54:L55)+1,FALSE)","v":0},{"$f":"VLOOKUP($J55,Plan2!$B$65:$K$68,COLUMNS(Plan1!$K$54:M55)+1,FALSE)","v":0},{"$f":"VLOOKUP($J55,Plan2!$B$65:$K$68,COLUMNS(Plan1!$K$54:N55)+1,FALSE)","v":0},{"$f":"VLOOKUP($J55,Plan2!$B$65:$K$68,COLUMNS(Plan1!$K$54:O55)+1,FALSE)","v":0},{"$f":"VLOOKUP($J55,Plan2!$B$65:$K$68,COLUMNS(Plan1!$K$54:P55)+1,FALSE)","v":0},{"$f":"VLOOKUP($J55,Plan2!$B$65:$K$68,COLUMNS(Plan1!$K$54:Q55)+1,FALSE)","v":0},{"$f":"VLOOKUP($J55,Plan2!$B$65:$K$68,COLUMNS(Plan1!$K$54:R55)+1,FALSE)","v":0},{"$f":"VLOOKUP($J55,Plan2!$B$65:$K$68,COLUMNS(Plan1!$K$54:S55)+1,FALSE)","v":0}]
["2018-06-28",null,"Inglaterra",null,null,"V",null,null,"Bélgica",3,{"$f":"VLOOKUP($J56,Plan2!$B$65:$K$68,COLUMNS(Plan1!$K$54:K56)+1,FALSE)","v":"Tunísia"},{"$f":"VLOOKUP($J56,Plan2!$B$65:$K$68,COLUMNS(Plan1!$K$54:L56)+1,FALSE)","v":0},{"$f":"VLOOKUP($J56,Plan2!$B$65:$K$68,COLUMNS(Plan1!$K$54:M56)+1,FALSE)","v":0},{"$f":"VLOOKUP($J56,Plan2!$B$65:$K$68,COLUMNS(Plan1!$K$54:N56)+1,FALSE)","v":0},{"$f":"VLOOKUP($J56,Plan2!$B$65:$K$68,COLUMNS(Plan1!$K$54:O56)+1,FALSE)","v":0},{"$f":"VLOOKUP($J56,Plan2!$B$65:$K$68,COLUMNS(Plan1!$K$54:P56)+1,FALSE)","v":0},{"$f":"VLOOKUP($J56,Plan2!$B$65:$K$68,COLUMNS(Plan1!$K$54:Q56)+1,FALSE)","v":0},{"$f":"VLOOKUP($J56,Plan2!$B$65:$K$68,COLUMNS(Plan1!$K$54:R56)+1,FALSE)","v":0},{"$f":"VLOOKUP($J56,Plan2!$B$65:$K$68,COLUMNS(Plan1!$K$54:S56)+1,FALSE)","v":0}]
["2018-06-28",null,"Panamá",null,null,"V",null,null,"Tunísia",4,{"$f":"VLOOKUP($J57,Plan2!$B$65:$K$68,COLUMNS(Plan1!$K$54:K57)+1,FALSE)","v":"Panamá"},{"$f":"VLOOKUP($J57,Plan2!$B$65:$K$68,COLUMNS(Plan1!$K$54:L57)+1,FALSE)","v":0},{"$f":"VLOOKUP($J57,Plan2!$B$65:$K$68,COLUMNS(Plan1!$K$54:M57)+1,FALSE)","v":0},{"$f":"VLOOKUP($J57,Plan2!$B$65:$K$68,COLUMNS(Plan1!$K$54:N57)+1,FALSE)","v":0},{"$f":"VLOOKUP($J57,Plan2!$B$65:$K$68,COLUMNS(Plan1!$K$54:O57)+1,FALSE)","v":0},{"$f":"VLOOKUP($J57,Plan2!$B$65:$K$68,COLUMNS(Plan1!$K$54:P57)+1,FALSE)","v":0},{"$f":"VLOOKUP($J57,Plan2!$B$65:$K$68,COLUMNS(Plan1!$K$54:Q57)+1,FALSE)","v":0},{"$f":"VLOOKUP($J57,Plan2!$B$65:$K$68,COLUMNS(Plan1!$K$54:R57)+1,FALSE)","v":0},{"$f":"VLOOKUP($J57,Plan2!$B$65:$K$68,COLUMNS(Plan1!$K$54:S57)+1,FALSE)","v":0}]
[]
["Grupo H"]
["2018-06-19",null,"Polônia",null,null,"V",null,null,"Senegal",null,"Classificação Grupo H"]
["2018-06-19",null,"Colômbia",null,null,"V",null,null,"Japão",null,"Seleções","JG","V","E","D","GP","GC","SG","PT"]
["2018-06-24",null,"Polônia",null,null,"V",null,null,"Colômbia",1,{"$f":"VLOOKUP($J62,Plan2!$B$75:$K$78,COLUMNS(Plan1!$K$62:K62)+1,FALSE)","v":"Colômbia"},{"$f":"VLOOKUP($J62,Plan2!$B$75:$K$78,COLUMNS(Plan1!$K$62:L62)+1,FALSE)","v":0},{"$f":"VLOOKUP($J62,Plan2!$B$75:$K$78,COLUMNS(Plan1!$K$62:M62)+1,FALSE)","v":0},{"$f":"VLOOKUP($J62,Plan2!$B$75:$K$78,COLUMNS(Plan1!$K$62:N62)+1,FALSE)","v":0},{"$f":"VLOOKUP($J62,Plan2!$B$75:$K$78,COLUMNS(Plan1!$K$62:O62)+1,FALSE)","v":0},{"$f":"VLOOKUP($J62,Plan2!$B$75:$K$78,COLUMNS(Plan1!$K$62:P62)+1,FALSE)","v":0},{"$f":"VLOOKUP($J62,Plan2!$B$75:$K$78,COLUMNS(Plan1!$K$62:Q62)+1,FALSE)","v":0},{"$f":"VLOOKUP($J62,Plan2!$B$75:$K$78,COLUMNS(Plan1!$K$62:R62)+1,FALSE)","v":0},{"$f":"VLOOKUP($J62,Plan2!$B$75:$K$78,COLUMNS(Plan1!$K$62:S62)+1,FALSE)","v":0}]
["2018-06-24",null,"Japão",null,null,"V",null,null,"Senegal",2,{"$f":"VLOOKUP($J63,Plan2!$B$75:$K$78,COLUMNS(Plan1!$K$62:K63)+1,FALSE)","v":"Polônia"},{"$f":"VLOOKUP($J63,Plan2!$B$75:$K$78,COLUMNS(Plan1!$K$62:L63)+1,FALSE)","v":0},{"$f":"VLOOKUP($J63,Plan2!$B$75:$K$78,COLUMNS(Plan1!$K$62:M63)+1,FALSE)","v":0},{"$f":"VLOOKUP($J63,Plan2!$B$75:$K$78,COLUMNS(Plan1!$K$62:N63)+1,FALSE)","v":0},{"$f":"VLOOKUP($J63,Plan2!$B$75:$K$78,COLUMNS(Plan1!$K$62:O63)+1,FALSE)","v":0},{"$f":"VLOOKUP($J63,Plan2!$B$75:$K$78,COLUMNS(Plan1!$K$62:P63)+1,FALSE)","v":0},{"$f":"VLOOKUP($J63,Plan2!$B$75:$K$78,COLUMNS(Plan1!$K$62:Q63)+1,FALSE)","v":0},{"$f":"VLOOKUP($J63,Plan2!$B$75:$K$78,COLUMNS(Plan1!$K$62:R63)+1,FALSE)","v":0},{"$f":"VLOOKUP($J63,Plan2!$B$75:$K$78,COLUMNS(Plan1!$K$62:S63)+1,FALSE)","v":0}]
["2018-06-28",null,"Japão",null,null,"V",null,null,"Polônia",3,{"$f":"VLOOKUP($J64,Plan2!$B$75:$K$78,COLUMNS(Plan1!$K$62:K64)+1,FALSE)","v":"Japão"},{"$f":"VLOOKUP($J64,Plan2!$B$75:$K$78,COLUMNS(Plan1!$K$62:L64)+1,FALSE)","v":0},{"$f":"VLOOKUP($J64,Plan2!$B$75:$K$78,COLUMNS(Plan1!$K$62:M64)+1,FALSE)","v":0},{"$f":"VLOOKUP($J64,Plan2!$B$75:$K$78,COLUMNS(Plan1!$K$62:N64)+1,FALSE)","v":0},{"$f":"VLOOKUP($J64,Plan2!$B$75:$K$78,COLUMNS(Plan1!$K$62:O64)+1,FALSE)","v":0},{"$f":"VLOOKUP($J64,Plan2!$B$75:$K$78,COLUMNS(Plan1!$K$62:P64)+1,FALSE)","v":0},{"$f":"VLOOKUP($J64,Plan2!$B$75:$K$78,COLUMNS(Plan1!$K$62:Q64)+1,FALSE)","v":0},{"$f":"VLOOKUP($J64,Plan2!$B$75:$K$78,COLUMNS(Plan1!$K$62:R64)+1,FALSE)","v":0},{"$f":"VLOOKUP($J64,Plan2!$B$75:$K$78,COLUMNS(Plan1!$K$62:S64)+1,FALSE)","v":0}]
["2018-06-28",null,"Senegal",null,null,"V",null,null,"Colômbia",4,{"$f":"VLOOKUP($J65,Plan2!$B$75:$K$78,COLUMNS(Plan1!$K$62:K65)+1,FALSE)","v":"Senegal"},{"$f":"VLOOKUP($J65,Plan2!$B$75:$K$78,COLUMNS(Plan1!$K$62:L65)+1,FALSE)","v":0},{"$f":"VLOOKUP($J65,Plan2!$B$75:$K$78,COLUMNS(Plan1!$K$62:M65)+1,FALSE)","v":0},{"$f":"VLOOKUP($J65,Plan2!$B$75:$K$78,COLUMNS(Plan1!$K$62:N65)+1,FALSE)","v":0},{"$f":"VLOOKUP($J65,Plan2!$B$75:$K$78,COLUMNS(Plan1!$K$62:O65)+1,FALSE)","v":0},{"$f":"VLOOKUP($J65,Plan2!$B$75:$K$78,COLUMNS(Plan1!$K$62:P65)+1,FALSE)","v":0},{"$f":"VLOOKUP($J65,Plan2!$B$75:$K$78,COLUMNS(Plan1!$K$62:Q65)+1,FALSE)","v":0},{"$f":"VLOOKUP($J65,Plan2!$B$75:$K$78,COLUMNS(Plan1!$K$62:R65)+1,FALSE)","v":0},{"$f":"VLOOKUP($J65,Plan2!$B$75:$K$78,COLUMNS(Plan1!$K$62:S65)+1,FALSE)","v":0}]

{"sheet":"Plan2","index":1,"n_rows":80,"n_cols":18,"rows_kept":80,"cut":false,"hidden":false,"merged":[[0,2,0,10],[1,12,1,13],[10,2,10,10],[11,12,11,13],[21,2,21,10],[31,2,31,10],[42,2,42,10],[32,12,32,13],[43,12,43,13],[22,12,22,13],[73,12,73,13],[52,2,52,10],[53,12,53,13],[62,2,62,10],[63,12,63,13],[72,2,72,10]]}
[null,null,"Classificação Grupo A"]
[null,null,"Seleções","JG","V","E","D","GP","GC","SG","PT",null,"Pontos",null,null,"critério para rank"]
[null,{"$f":"RANK(P3,$P$3:$P$6,0)+COUNTIF($P$2:P2,P3)","v":1},"Arábia Saudita",{"$f":"COUNTIFS(Plan1!$C$4:$C$9,Plan2!C3,Plan1!$E$4:$E$9,\">=0\")+COUNTIFS(Plan1!$I$4:$I$9,Plan2!C3,Plan1!$G$4:$G$9,\">=0\")","v":0},{"$f":"COUNTIFS(Plan1!$C$4:$C$9,Plan2!C3,Plan2!$M$3:$M$8,3)+COUNTIFS(Plan1!$I$4:$I$9,Plan2!C3,Plan2!$N$3:$N$8,3)","v":0},{"$f":"COUNTIFS(Plan1!$C$4:$C$9,Plan2!C3,Plan2!$M$3:$M$8,1)+COUNTIFS(Plan1!$I$4:$I$9,Plan2!C3,Plan2!$N$3:$N$8,1)","v":0},{"$f":"COUNTIFS(Plan1!$C$4:$C$9,Plan2!C3,Plan2!$M$3:$M$8,0)+COUNTIFS(Plan1!$I$4:$I$9,Plan2!C3,Plan2!$N$3:$N$8,0)","v":0},{"$f":"SUMIF(Plan1!$C$4:$C$10,Plan2!C3,Plan1!$E$4:$E$9)+SUMIF(Plan1!$I$4:$I$9,Plan2!C3,Plan1!$G$4:$G$9)","v":0},{"$f":"SUMIF(Plan1!$C$4:$C$9,Plan2!C3,Plan1!$G$4:$G$9)+SUMIF(Plan1!$I$4:$I$9,Plan2!C3,Plan1!$E$4:$E$9)","v":0},{"$f":"+H3-I3","v":0},{"$f":"SUMIF(Plan1!$C$4:$C$9,Plan2!C3,Plan2!$M$3:$M$8)+SUMIF(Plan1!$I$4:$I$9,Plan2!C3,Plan2!$N$3:$N$8)","v":0},null,{"$f":"IF(Plan1!E4=\"\",\"\",IF(Plan1!E4>Plan1!G4,3,IF(Plan1!E4=Plan1!G4,1,0)))","v":""},{"$f":"IF(Plan1!G4=\"\",\"\",IF(Plan1!G4>Plan1!E4,3,IF(Plan1!G4=Plan1!E4,1,0)))","v":""},null,{"$f":"SUM(K3*1000000+J3*1000+H3*100)","v":0}]
[null,{"$f":"RANK(P4,$P$3:$P$6,0)+COUNTIF($P$2:P3,P4)","v":2},"Egito",{"$f":"COUNTIFS(Plan1!$C$4:$C$9,Plan2!C4,Plan1!$E$4:$E$9,\">=0\")+COUNTIFS(Plan1!$I$4:$I$9,Plan2!C4,Plan1!$G$4:$G$9,\">=0\")","v":0},{"$f":"COUNTIFS(Plan1!$C$4:$C$9,Plan2!C4,Plan2!$M$3:$M$8,3)+COUNTIFS(Plan1!$I$4:$I$9,Plan2!C4,Plan2!$N$3:$N$8,3)","v":0},{"$f":"COUNTIFS(Plan1!$C$4:$C$9,Plan2!C4,Plan2!$M$3:$M$8,1)+COUNTIFS(Plan1!$I$4:$I$9,Plan2!C4,Plan2!$N$3:$N$8,1)","v":0},{"$f":"COUNTIFS(Plan1!$C$4:$C$9,Plan2!C4,Plan2!$M$3:$M$8,0)+COUNTIFS(Plan1!$I$4:$I$9,Plan2!C4,Plan2!$N$3:$N$8,0)","v":0},{"$f":"SUMIF(Plan1!$C$4:$C$10,Plan2!C4,Plan1!$E$4:$E$9)+SUMIF(Plan1!$I$4:$I$9,Plan2!C4,Plan1!$G$4:$G$9)","v":0},{"$f":"SUMIF(Plan1!$C$4:$C$9,Plan2!C4,Plan1!$G$4:$G$9)+SUMIF(Plan1!$I$4:$I$9,Plan2!C4,Plan1!$E$4:$E$9)","v":0},{"$f":"+H4-I4","v":0},{"$f":"SUMIF(Plan1!$C$4:$C$9,Plan2!C4,Plan2!$M$3:$M$8)+SUMIF(Plan1!$I$4:$I$9,Plan2!C4,Plan2!$N$3:$N$8)","v":0},null,{"$f":"IF(Plan1!E5=\"\",\"\",IF(Plan1!E5>Plan1!G5,3,IF(Plan1!E5=Plan1!G5,1,0)))","v":""},{"$f":"IF(Plan1!G5=\"\",\"\",IF(Plan1!G5>Plan1!E5,3,IF(Plan1!G5=Plan1!E5,1,0)))","v":""},null,{"$f":"SUM(K4*1000000+J4*1000+H4*100)","v":0}]
[null,{"$f":"RANK(P5,$P$3:$P$6,0)+COUNTIF($P$2:P4,P5)","v":3},"Rússia",{"$f":"COUNTIFS(Plan1!$C$4:$C$9,Plan2!C5,Plan1!$E$4:$E$9,\">=0\")+COUNTIFS(Plan1!$I$4:$I$9,Plan2!C5,Plan1!$G$4:$G$9,\">=0\")","v":0},{"$f":"COUNTIFS(Plan1!$C$4:$C$9,Plan2!C5,Plan2!$M$3:$M$8,3)+COUNTIFS(Plan1!$I$4:$I$9,Plan2!C5,Plan2!$N$3:$N$8,3)","v":0},{"$f":"COUNTIFS(Plan1!$C$4:$C$9,Plan2!C5,Plan2!$M$3:$M$8,1)+COUNTIFS(Plan1!$I$4:$I$9,Plan2!C5,Plan2!$N$3:$N$8,1)","v":0},{"$f":"COUNTIFS(Plan1!$C$4:$C$9,Plan2!C5,Plan2!$M$3:$M$8,0)+COUNTIFS(Plan1!$I$4:$I$9,Plan2!C5,Plan2!$N$3:$N$8,0)","v":0},{"$f":"SUMIF(Plan1!$C$4:$C$10,Plan2!C5,Plan1!$E$4:$E$9)+SUMIF(Plan1!$I$4:$I$9,Plan2!C5,Plan1!$G$4:$G$9)","v":0},{"$f":"SUMIF(Plan1!$C$4:$C$9,Plan2!C5,Plan1!$G$4:$G$9)+SUMIF(Plan1!$I$4:$I$9,Plan2!C5,Plan1!$E$4:$E$9)","v":0},0,{"$f":"SUMIF(Plan1!$C$4:$C$9,Plan2!C5,Plan2!$M$3:$M$8)+SUMIF(Plan1!$I$4:$I$9,Plan2!C5,Plan2!$N$3:$N$8)","v":0},null,{"$f":"IF(Plan1!E6=\"\",\"\",IF(Plan1!E6>Plan1!G6,3,IF(Plan1!E6=Plan1!G6,1,0)))","v":""},{"$f":"IF(Plan1!G6=\"\",\"\",IF(Plan1!G6>Plan1!E6,3,IF(Plan1!G6=Plan1!E6,1,0)))","v":""},null,0]
[null,{"$f":"RANK(P6,$P$3:$P$6,0)+COUNTIF($P$2:P5,P6)","v":4},"Uruguai",{"$f":"COUNTIFS(Plan1!$C$4:$C$9,Plan2!C6,Plan1!$E$4:$E$9,\">=0\")+COUNTIFS(Plan1!$I$4:$I$9,Plan2!C6,Plan1!$G$4:$G$9,\">=0\")","v":0},{"$f":"COUNTIFS(Plan1!$C$4:$C$9,Plan2!C6,Plan2!$M$3:$M$8,3)+COUNTIFS(Plan1!$I$4:$I$9,Plan2!C6,Plan2!$N$3:$N$8,3)","v":0},{"$f":"COUNTIFS(Plan1!$C$4:$C$9,Plan2!C6,Plan2!$M$3:$M$8,1)+COUNTIFS(Plan1!$I$4:$I$9,Plan2!C6,Plan2!$N$3:$N$8,1)","v":0},{"$f":"COUNTIFS(Plan1!$C$4:$C$9,Plan2!C6,Plan2!$M$3:$M$8,0)+COUNTIFS(Plan1!$I$4:$I$9,Plan2!C6,Plan2!$N$3:$N$8,0)","v":0},{"$f":"SUMIF(Plan1!$C$4:$C$10,Plan2!C6,Plan1!$E$4:$E$9)+SUMIF(Plan1!$I$4:$I$9,Plan2!C6,Plan1!$G$4:$G$9)","v":0},{"$f":"SUMIF(Plan1!$C$4:$C$9,Plan2!C6,Plan1!$G$4:$G$9)+SUMIF(Plan1!$I$4:$I$9,Plan2!C6,Plan1!$E$4:$E$9)","v":0},0,{"$f":"SUMIF(Plan1!$C$4:$C$9,Plan2!C6,Plan2!$M$3:$M$8)+SUMIF(Plan1!$I$4:$I$9,Plan2!C6,Plan2!$N$3:$N$8)","v":0},null,{"$f":"IF(Plan1!E7=\"\",\"\",IF(Plan1!E7>Plan1!G7,3,IF(Plan1!E7=Plan1!G7,1,0)))","v":""},{"$f":"IF(Plan1!G7=\"\",\"\",IF(Plan1!G7>Plan1!E7,3,IF(Plan1!G7=Plan1!E7,1,0)))","v":""},null,0]
[null,null,null,null,null,null,null,null,null,null,null,null,{"$f":"IF(Plan1!E8=\"\",\"\",IF(Plan1!E8>Plan1!G8,3,IF(Plan1!E8=Plan1!G8,1,0)))","v":""},{"$f":"IF(Plan1!G8=\"\",\"\",IF(Plan1!G8>Plan1!E8,3,IF(Plan1!G8=Plan1!E8,1,0)))","v":""}]
[null,null,null,null,null,null,null,null,null,null,null,null,{"$f":"IF(Plan1!E9=\"\",\"\",IF(Plan1!E9>Plan1!G9,3,IF(Plan1!E9=Plan1!G9,1,0)))","v":""},{"$f":"IF(Plan1!G9=\"\",\"\",IF(Plan1!G9>Plan1!E9,3,IF(Plan1!G9=Plan1!E9,1,0)))","v":""}]
[]
[]
[null,null,"Classificação Grupo B"]
[null,null,"Seleções","JG","V","E","D","GP","GC","SG","PT",null,"Pontos",null,null,"critério para rank"]
[null,{"$f":"RANK(P13,$P$13:$P$16,0)+COUNTIF($P$12:P12,P13)","v":1},"Irã",{"$f":"COUNTIFS(Plan1!$C$12:$C$17,Plan2!C13,Plan1!$E$12:$E$17,\">=0\")+COUNTIFS(Plan1!$I$12:$I$17,Plan2!C13,Plan1!$G$12:$G$17,\">=0\")","v":0},{"$f":"COUNTIFS(Plan1!$C$12:$C$17,Plan2!C13,Plan2!$M$13:$M$18,3)+COUNTIFS(Plan1!$I$12:$I$17,Plan2!C13,Plan2!$N$13:$N$18,3)","v":0},{"$f":"COUNTIFS(Plan1!$C$12:$C$17,Plan2!C13,Plan2!$M$13:$M$18,1)+COUNTIFS(Plan1!$I$12:$I$17,Plan2!C13,Plan2!$N$13:$N$18,1)","v":0},{"$f":"COUNTIFS(Plan1!$C$12:$C$17,Plan2!C13,Plan2!$M$13:$M$18,0)+COUNTIFS(Plan1!$I$12:$I$17,Plan2!C13,Plan2!$N$13:$N$18,0)","v":0},{"$f":"SUMIF(Plan1!$C$12:$C$17,Plan2!C13,Plan1!$E$12:$E$17)+SUMIF(Plan1!$I$12:$I$17,Plan2!C13,Plan1!$G$12:$G$17)","v":0},{"$f":"SUMIF(Plan1!$C$12:$C$17,Plan2!C13,Plan1!$G$12:$G$17)+SUMIF(Plan1!$I$12:$I$17,Plan2!C13,Plan1!$E$12:$E$17)","v":0},{"$f":"+H13-I13","v":0},{"$f":"SUMIF(Plan1!$C$12:$C$17,Plan2!C13,Plan2!$M$13:$M$18)+SUMIF(Plan1!$I$12:$I$17,Plan2!C13,Plan2!$N$13:$N$18)","v":0},null,{"$f":"IF(Plan1!E12=\"\",\"\",IF(Plan1!E12>Plan1!G12,3,IF(Plan1!E12=Plan1!G12,1,0)))","v":""},{"$f":"IF(Plan1!G12=\"\",\"\",IF(Plan1!G12>Plan1!E12,3,IF(Plan1!G12=Plan1!E12,1,0)))","v":""},null,{"$f":"SUM(K13*1000000+J13*1000+H13*100)","v":0}]
[null,{"$f":"RANK(P14,$P$13:$P$16,0)+COUNTIF($P$12:P13,P14)","v":2},"Espanha",{"$f":"COUNTIFS(Plan1!$C$12:$C$17,Plan2!C14,Plan1!$E$12:$E$17,\">=0\")+COUNTIFS(Plan1!$I$12:$I$17,Plan2!C14,Plan1!$G$12:$G$17,\">=0\")","v":0},{"$f":"COUNTIFS(Plan1!$C$12:$C$17,Plan2!C14,Plan2!$M$13:$M$18,3)+COUNTIFS(Plan1!$I$12:$I$17,Plan2!C14,Plan2!$N$13:$N$18,3)","v":0},{"$f":"COUNTIFS(Plan1!$C$12:$C$17,Plan2!C14,Plan2!$M$13:$M$18,1)+COUNTIFS(Plan1!$I$12:$I$17,Plan2!C14,Plan2!$N$13:$N$18,1)","v":0},{"$f":"COUNTIFS(Plan1!$C$12:$C$17,Plan2!C14,Plan2!$M$13:$M$18,0)+COUNTIFS(Plan1!$I$12:$I$17,Plan2!C14,Plan2!$N$13:$N$18,0)","v":0},{"$f":"SUMIF(Plan1!$C$12:$C$17,Plan2!C14,Plan1!$E$12:$E$17)+SUMIF(Plan1!$I$12:$I$17,Plan2!C14,Plan1!$G$12:$G$17)","v":0},{"$f":"SUMIF(Plan1!$C$12:$C$17,Plan2!C14,Plan1!$G$12:$G$17)+SUMIF(Plan1!$I$12:$I$17,Plan2!C14,Plan1!$E$12:$E$17)","v":0},{"$f":"+H14-I14","v":0},{"$f":"SUMIF(Plan1!$C$12:$C$17,Plan2!C14,Plan2!$M$13:$M$18)+SUMIF(Plan1!$I$12:$I$17,Plan2!C14,Plan2!$N$13:$N$18)","v":0},null,{"$f":"IF(Plan1!E13=\"\",\"\",IF(Plan1!E13>Plan1!G13,3,IF(Plan1!E13=Plan1!G13,1,0)))","v":""},{"$f":"IF(Plan1!G13=\"\",\"\",IF(Plan1!G13>Plan1!E13,3,IF(Plan1!G13=Plan1!E13,1,0)))","v":""},null,{"$f":"SUM(K14*1000000+J14*1000+H14*100)","v":0}]
[null,{"$f":"RANK(P15,$P$13:$P$16,0)+COUNTIF($P$12:P14,P15)","v":3},"Marrocos",{"$f":"COUNTIFS(Plan1!$C$12:$C$17,Plan2!C15,Plan1!$E$12:$E$17,\">=0\")+COUNTIFS(Plan1!$I$12:$I$17,Plan2!C15,Plan1!$G$12:$G$17,\">=0\")","v":0},{"$f":"COUNTIFS(Plan1!$C$12:$C$17,Plan2!C15,Plan2!$M$13:$M$18,3)+COUNTIFS(Plan1!$I$12:$I$17,Plan2!C15,Plan2!$N$13:$N$18,3)","v":0},{"$f":"COUNTIFS(Plan1!$C$12:$C$17,Plan2!C15,Plan2!$M$13:$M$18,1)+COUNTIFS(Plan1!$I$12:$I$17,Plan2!C15,Plan2!$N$13:$N$18,1)","v":0},{"$f":"COUNTIFS(Plan1!$C$12:$C$17,Plan2!C15,Plan2!$M$13:$M$18,0)+COUNTIFS(Plan1!$I$12:$I$17,Plan2!C15,Plan2!$N$13:$N$18,0)","v":0},{"$f":"SUMIF(Plan1!$C$12:$C$17,Plan2!C15,Plan1!$E$12:$E$17)+SUMIF(Plan1!$I$12:$I$17,Plan2!C15,Plan1!$G$12:$G$17)","v":0},{"$f":"SUMIF(Plan1!$C$12:$C$17,Plan2!C15,Plan1!$G$12:$G$17)+SUMIF(Plan1!$I$12:$I$17,Plan2!C15,Plan1!$E$12:$E$17)","v":0},0,{"$f":"SUMIF(Plan1!$C$12:$C$17,Plan2!C15,Plan2!$M$13:$M$18)+SUMIF(Plan1!$I$12:$I$17,Plan2!C15,Plan2!$N$13:$N$18)","v":0},null,{"$f":"IF(Plan1!E14=\"\",\"\",IF(Plan1!E14>Plan1!G14,3,IF(Plan1!E14=Plan1!G14,1,0)))","v":""},{"$f":"IF(Plan1!G14=\"\",\"\",IF(Plan1!G14>Plan1!E14,3,IF(Plan1!G14=Plan1!E14,1,0)))","v":""},null,0]
[null,{"$f":"RANK(P16,$P$13:$P$16,0)+COUNTIF($P$12:P15,P16)","v":4},"Portugal",{"$f":"COUNTIFS(Plan1!$C$12:$C$17,Plan2!C16,Plan1!$E$12:$E$17,\">=0\")+COUNTIFS(Plan1!$I$12:$I$17,Plan2!C16,Plan1!$G$12:$G$17,\">=0\")","v":0},{"$f":"COUNTIFS(Plan1!$C$12:$C$17,Plan2!C16,Plan2!$M$13:$M$18,3)+COUNTIFS(Plan1!$I$12:$I$17,Plan2!C16,Plan2!$N$13:$N$18,3)","v":0},{"$f":"COUNTIFS(Plan1!$C$12:$C$17,Plan2!C16,Plan2!$M$13:$M$18,1)+COUNTIFS(Plan1!$I$12:$I$17,Plan2!C16,Plan2!$N$13:$N$18,1)","v":0},{"$f":"COUNTIFS(Plan1!$C$12:$C$17,Plan2!C16,Plan2!$M$13:$M$18,0)+COUNTIFS(Plan1!$I$12:$I$17,Plan2!C16,Plan2!$N$13:$N$18,0)","v":0},{"$f":"SUMIF(Plan1!$C$12:$C$17,Plan2!C16,Plan1!$E$12:$E$17)+SUMIF(Plan1!$I$12:$I$17,Plan2!C16,Plan1!$G$12:$G$17)","v":0},{"$f":"SUMIF(Plan1!$C$12:$C$17,Plan2!C16,Plan1!$G$12:$G$17)+SUMIF(Plan1!$I$12:$I$17,Plan2!C16,Plan1!$E$12:$E$17)","v":0},0,{"$f":"SUMIF(Plan1!$C$12:$C$17,Plan2!C16,Plan2!$M$13:$M$18)+SUMIF(Plan1!$I$12:$I$17,Plan2!C16,Plan2!$N$13:$N$18)","v":0},null,{"$f":"IF(Plan1!E15=\"\",\"\",IF(Plan1!E15>Plan1!G15,3,IF(Plan1!E15=Plan1!G15,1,0)))","v":""},{"$f":"IF(Plan1!G15=\"\",\"\",IF(Plan1!G15>Plan1!E15,3,IF(Plan1!G15=Plan1!E15,1,0)))","v":""},null,0]
[null,null,null,null,null,null,null,null,null,null,null,null,{"$f":"IF(Plan1!E16=\"\",\"\",IF(Plan1!E16>Plan1!G16,3,IF(Plan1!E16=Plan1!G16,1,0)))","v":""},{"$f":"IF(Plan1!G16=\"\",\"\",IF(Plan1!G16>Plan1!E16,3,IF(Plan1!G16=Plan1!E16,1,0)))","v":""}]
[null,null,null,null,null,null,null,null,null,null,null,null,{"$f":"IF(Plan1!E17=\"\",\"\",IF(Plan1!E17>Plan1!G17,3,IF(Plan1!E17=Plan1!G17,1,0)))","v":""},{"$f":"IF(Plan1!G17=\"\",\"\",IF(Plan1!G17>Plan1!E17,3,IF(Plan1!G17=Plan1!E17,1,0)))","v":""}]
[]
[]
[]
[null,null,"Classificação Grupo C"]
[null,null,"Seleções","JG","V","E","D","GP","GC","SG","PT",null,"Pontos",null,null,"critério para rank"]
[null,{"$f":"RANK(P24,$P$24:$P$27,0)+COUNTIF($P$23:P23,P24)","v":1},"Peru",{"$f":"COUNTIFS(Plan1!$C$20:$C$25,Plan2!C24,Plan1!$E$20:$E$25,\">=0\")+COUNTIFS(Plan1!$I$20:$I$25,Plan2!C24,Plan1!$G$20:$G$25,\">=0\")","v":0},{"$f":"COUNTIFS(Plan1!$C$20:$C$25,Plan2!C24,Plan2!$M$24:$M$29,3)+COUNTIFS(Plan1!$I$20:$I$25,Plan2!C24,Plan2!$N$24:$N$29,3)","v":0},{"$f":"COUNTIFS(Plan1!$C$20:$C$25,Plan2!C24,Plan2!$M$24:$M$29,1)+COUNTIFS(Plan1!$I$20:$I$25,Plan2!C24,Plan2!$N$24:$N$29,1)","v":0},{"$f":"COUNTIFS(Plan1!$C$20:$C$25,Plan2!C24,Plan2!$M$24:$M$29,0)+COUNTIFS(Plan1!$I$20:$I$25,Plan2!C24,Plan2!$N$24:$N$29,0)","v":0},{"$f":"SUMIF(Plan1!$C$20:$C$25,Plan2!C24,Plan1!$E$20:$E$25)+SUMIF(Plan1!$I$20:$I$25,Plan2!C24,Plan1!$G$20:$G$25)","v":0},{"$f":"SUMIF(Plan1!$C$20:$C$25,Plan2!C24,Plan1!$G$20:$G$25)+SUMIF(Plan1!$I$20:$I$25,Plan2!C24,Plan1!$E$20:$E$25)","v":0},{"$f":"+H24-I24","v":0},{"$f":"SUMIF(Plan1!$C$20:$C$25,Plan2!C24,Plan2!$M$24:$M$29)+SUMIF(Plan1!$I$20:$I$25,Plan2!C24,Plan2!$N$24:$N$29)","v":0},null,{"$f":"IF(Plan1!E20=\"\",\"\",IF(Plan1!E20>Plan1!G20,3,IF(Plan1!E20=Plan1!G20,1,0)))","v":""},{"$f":"IF(Plan1!G20=\"\",\"\",IF(Plan1!G20>Plan1!E20,3,IF(Plan1!G20=Plan1!E20,1,0)))","v":""},null,{"$f":"SUM(K24*1000000+J24*1000+H24*100)","v":0}]
[null,{"$f":"RANK(P25,$P$24:$P$27,0)+COUNTIF($P$23:P24,P25)","v":2},"Dinamarca",{"$f":"COUNTIFS(Plan1!$C$20:$C$25,Plan2!C25,Plan1!$E$20:$E$25,\">=0\")+COUNTIFS(Plan1!$I$20:$I$25,Plan2!C25,Plan1!$G$20:$G$25,\">=0\")","v":0},{"$f":"COUNTIFS(Plan1!$C$20:$C$25,Plan2!C25,Plan2!$M$24:$M$29,3)+COUNTIFS(Plan1!$I$20:$I$25,Plan2!C25,Plan2!$N$24:$N$29,3)","v":0},{"$f":"COUNTIFS(Plan1!$C$20:$C$25,Plan2!C25,Plan2!$M$24:$M$29,1)+COUNTIFS(Plan1!$I$20:$I$25,Plan2!C25,Plan2!$N$24:$N$29,1)","v":0},{"$f":"COUNTIFS(Plan1!$C$20:$C$25,Plan2!C25,Plan2!$M$24:$M$29,0)+COUNTIFS(Plan1!$I$20:$I$25,Plan2!C25,Plan2!$N$24:$N$29,0)","v":0},{"$f":"SUMIF(Plan1!$C$20:$C$25,Plan2!C25,Plan1!$E$20:$E$25)+SUMIF(Plan1!$I$20:$I$25,Plan2!C25,Plan1!$G$20:$G$25)","v":0},{"$f":"SUMIF(Plan1!$C$20:$C$25,Plan2!C25,Plan1!$G$20:$G$25)+SUMIF(Plan1!$I$20:$I$25,Plan2!C25,Plan1!$E$20:$E$25)","v":0},{"$f":"+H25-I25","v":0},{"$f":"SUMIF(Plan1!$C$20:$C$25,Plan2!C25,Plan2!$M$24:$M$29)+SUMIF(Plan1!$I$20:$I$25,Plan2!C25,Plan2!$N$24:$N$29)","v":0},null,{"$f":"IF(Plan1!E21=\"\",\"\",IF(Plan1!E21>Plan1!G21,3,IF(Plan1!E21=Plan1!G21,1,0)))","v":""},{"$f":"IF(Plan1!G21=\"\",\"\",IF(Plan1!G21>Plan1!E21,3,IF(Plan1!G21=Plan1!E21,1,0)))","v":""},null,{"$f":"SUM(K25*1000000+J25*1000+H25*100)","v":0}]
[null,{"$f":"RANK(P26,$P$24:$P$27,0)+COUNTIF($P$23:P25,P26)","v":3},"Austrália",{"$f":"COUNTIFS(Plan1!$C$20:$C$25,Plan2!C26,Plan1!$E$20:$E$25,\">=0\")+COUNTIFS(Plan1!$I$20:$I$25,Plan2!C26,Plan1!$G$20:$G$25,\">=0\")","v":0},{"$f":"COUNTIFS(Plan1!$C$20:$C$25,Plan2!C26,Plan2!$M$24:$M$29,3)+COUNTIFS(Plan1!$I$20:$I$25,Plan2!C26,Plan2!$N$24:$N$29,3)","v":0},{"$f":"COUNTIFS(Plan1!$C$20:$C$25,Plan2!C26,Plan2!$M$24:$M$29,1)+COUNTIFS(Plan1!$I$20:$I$25,Plan2!C26,Plan2!$N$24:$N$29,1)","v":0},{"$f":"COUNTIFS(Plan1!$C$20:$C$25,Plan2!C26,Plan2!$M$24:$M$29,0)+COUNTIFS(Plan1!$I$20:$I$25,Plan2!C26,Plan2!$N$24:$N$29,0)","v":0},{"$f":"SUMIF(Plan1!$C$20:$C$25,Plan2!C26,Plan1!$E$20:$E$25)+SUMIF(Plan1!$I$20:$I$25,Plan2!C26,Plan1!$G$20:$G$25)","v":0},{"$f":"SUMIF(Plan1!$C$20:$C$25,Plan2!C26,Plan1!$G$20:$G$25)+SUMIF(Plan1!$I$20:$I$25,Plan2!C26,Plan1!$E$20:$E$25)","v":0},0,{"$f":"SUMIF(Plan1!$C$20:$C$25,Plan2!C26,Plan2!$M$24:$M$29)+SUMIF(Plan1!$I$20:$I$25,Plan2!C26,Plan2!$N$24:$N$29)","v":0},null,{"$f":"IF(Plan1!E22=\"\",\"\",IF(Plan1!E22>Plan1!G22,3,IF(Plan1!E22=Plan1!G22,1,0)))","v":""},{"$f":"IF(Plan1!G22=\"\",\"\",IF(Plan1!G22>Plan1!E22,3,IF(Plan1!G22=Plan1!E22,1,0)))","v":""},null,0]
[null,{"$f":"RANK(P27,$P$24:$P$27,0)+COUNTIF($P$23:P26,P27)","v":4},"França",{"$f":"COUNTIFS(Plan1!$C$20:$C$25,Plan2!C27,Plan1!$E$20:$E$25,\">=0\")+COUNTIFS(Plan1!$I$20:$I$25,Plan2!C27,Plan1!$G$20:$G$25,\">=0\")","v":0},{"$f":"COUNTIFS(Plan1!$C$20:$C$25,Plan2!C27,Plan2!$M$24:$M$29,3)+COUNTIFS(Plan1!$I$20:$I$25,Plan2!C27,Plan2!$N$24:$N$29,3)","v":0},{"$f":"COUNTIFS(Plan1!$C$20:$C$25,Plan2!C27,Plan2!$M$24:$M$29,1)+COUNTIFS(Plan1!$I$20:$I$25,Plan2!C27,Plan2!$N$24:$N$29,1)","v":0},{"$f":"COUNTIFS(Plan1!$C$20:$C$25,Plan2!C27,Plan2!$M$24:$M$29,0)+COUNTIFS(Plan1!$I$20:$I$25,Plan2!C27,Plan2!$N$24:$N$29,0)","v":0},{"$f":"SUMIF(Plan1!$C$20:$C$25,Plan2!C27,Plan1!$E$20:$E$25)+SUMIF(Plan1!$I$20:$I$25,Plan2!C27,Plan1!$G$20:$G$25)","v":0},{"$f":"SUMIF(Plan1!$C$20:$C$25,Plan2!C27,Plan1!$G$20:$G$25)+SUMIF(Plan1!$I$20:$I$25,Plan2!C27,Plan1!$E$20:$E$25)","v":0},0,{"$f":"SUMIF(Plan1!$C$20:$C$25,Plan2!C27,Plan2!$M$24:$M$29)+SUMIF(Plan1!$I$20:$I$25,Plan2!C27,Plan2!$N$24:$N$29)","v":0},null,{"$f":"IF(Plan1!E23=\"\",\"\",IF(Plan1!E23>Plan1!G23,3,IF(Plan1!E23=Plan1!G23,1,0)))","v":""},{"$f":"IF(Plan1!G23=\"\",\"\",IF(Plan1!G23>Plan1!E23,3,IF(Plan1!G23=Plan1!E23,1,0)))","v":""},null,0]
[null,null,null,null,null,null,null,null,null,null,null,null,{"$f":"IF(Plan1!E24=\"\",\"\",IF(Plan1!E24>Plan1!G24,3,IF(Plan1!E24=Plan1!G24,1,0)))","v":""},{"$f":"IF(Plan1!G24=\"\",\"\",IF(Plan1!G24>Plan1!E24,3,IF(Plan1!G24=Plan1!E24,1,0)))","v":""}]
[null,null,null,null,null,null,null,null,null,null,null,null,{"$f":"IF(Plan1!E25=\"\",\"\",IF(Plan1!E25>Plan1!G25,3,IF(Plan1!E25=Plan1!G25,1,0)))","v":""},{"$f":"IF(Plan1!G25=\"\",\"\",IF(Plan1!G25>Plan1!E25,3,IF(Plan1!G25=Plan1!E25,1,0)))","v":""}]
[]
[]
[null,null,"Classificação Grupo D"]
[null,null,"Seleções","JG","V","E","D","GP","GC","SG","PT",null,"Pontos",null,null,"critério para rank",null,""]
[null,{"$f":"RANK(P34,$P$34:$P$37,0)+COUNTIF($P$33:P33,P34)","v":1},"Islândia",{"$f":"COUNTIFS(Plan1!$C$28:$C$33,Plan2!C34,Plan1!$E$28:$E$33,\">=0\")+COUNTIFS(Plan1!$I$28:$I$33,Plan2!C34,Plan1!$G$28:$G$33,\">=0\")","v":0},{"$f":"COUNTIFS(Plan1!$C$28:$C$33,Plan2!C34,Plan2!$M$34:$M$39,3)+COUNTIFS(Plan1!$I$28:$I$33,Plan2!C34,Plan2!$N$34:$N$39,3)","v":0},{"$f":"COUNTIFS(Plan1!$C$28:$C$33,Plan2!C34,Plan2!$M$34:$M$39,1)+COUNTIFS(Plan1!$I$28:$I$33,Plan2!C34,Plan2!$N$34:$N$39,1)","v":0},{"$f":"COUNTIFS(Plan1!$C$28:$C$33,Plan2!C34,Plan2!$M$34:$M$39,0)+COUNTIFS(Plan1!$I$28:$I$33,Plan2!C34,Plan2!$N$34:$N$39,0)","v":0},{"$f":"SUMIF(Plan1!$C$28:$C$35,Plan2!C34,Plan1!$E$28:$E$35)+SUMIF(Plan1!$I$28:$I$35,Plan2!C34,Plan1!$G$28:$G$35)","v":0},{"$f":"SUMIF(Plan1!$C$28:$C$35,Plan2!C34,Plan1!$G$28:$G$35)+SUMIF(Plan1!$I$28:$I$35,Plan2!C34,Plan1!$E$28:$E$35)","v":0},{"$f":"+H34-I34","v":0},{"$f":"SUMIF(Plan1!$C$28:$C$35,Plan2!C34,Plan2!$M$34:$M$39)+SUMIF(Plan1!$I$28:$I$35,Plan2!C34,Plan2!$N$34:$N$39)","v":0},null,{"$f":"IF(Plan1!E28=\"\",\"\",IF(Plan1!E28>Plan1!G28,3,IF(Plan1!E28=Plan1!G28,1,0)))","v":""},{"$f":"IF(Plan1!G28=\"\",\"\",IF(Plan1!G28>Plan1!E28,3,IF(Plan1!G28=Plan1!E28,1,0)))","v":""},null,{"$f":"SUM(K34*1000000+J34*1000+H34*100)","v":0}]
[null,{"$f":"RANK(P35,$P$34:$P$37,0)+COUNTIF($P$33:P34,P35)","v":2},"Croácia",{"$f":"COUNTIFS(Plan1!$C$28:$C$33,Plan2!C35,Plan1!$E$28:$E$33,\">=0\")+COUNTIFS(Plan1!$I$28:$I$33,Plan2!C35,Plan1!$G$28:$G$33,\">=0\")","v":0},{"$f":"COUNTIFS(Plan1!$C$28:$C$33,Plan2!C35,Plan2!$M$34:$M$39,3)+COUNTIFS(Plan1!$I$28:$I$33,Plan2!C35,Plan2!$N$34:$N$39,3)","v":0},{"$f":"COUNTIFS(Plan1!$C$28:$C$33,Plan2!C35,Plan2!$M$34:$M$39,1)+COUNTIFS(Plan1!$I$28:$I$33,Plan2!C35,Plan2!$N$34:$N$39,1)","v":0},{"$f":"COUNTIFS(Plan1!$C$28:$C$33,Plan2!C35,Plan2!$M$34:$M$39,0)+COUNTIFS(Plan1!$I$28:$I$33,Plan2!C35,Plan2!$N$34:$N$39,0)","v":0},{"$f":"SUMIF(Plan1!$C$28:$C$35,Plan2!C35,Plan1!$E$28:$E$35)+SUMIF(Plan1!$I$28:$I$35,Plan2!C35,Plan1!$G$28:$G$35)","v":0},{"$f":"SUMIF(Plan1!$C$28:$C$35,Plan2!C35,Plan1!$G$28:$G$35)+SUMIF(Plan1!$I$28:$I$35,Plan2!C35,Plan1!$E$28:$E$35)","v":0},{"$f":"+H35-I35","v":0},{"$f":"SUMIF(Plan1!$C$28:$C$35,Plan2!C35,Plan2!$M$34:$M$39)+SUMIF(Plan1!$I$28:$I$35,Plan2!C35,Plan2!$N$34:$N$39)","v":0},null,{"$f":"IF(Plan1!E29=\"\",\"\",IF(Plan1!E29>Plan1!G29,3,IF(Plan1!E29=Plan1!G29,1,0)))","v":""},{"$f":"IF(Plan1!G29=\"\",\"\",IF(Plan1!G29>Plan1!E29,3,IF(Plan1!G29=Plan1!E29,1,0)))","v":""},null,{"$f":"SUM(K35*1000000+J35*1000+H35*100)","v":0}]
[null,{"$f":"RANK(P36,$P$34:$P$37,0)+COUNTIF($P$33:P35,P36)","v":3},"Argentina",{"$f":"COUNTIFS(Plan1!$C$28:$C$33,Plan2!C36,Plan1!$E$28:$E$33,\">=0\")+COUNTIFS(Plan1!$I$28:$I$33,Plan2!C36,Plan1!$G$28:$G$33,\">=0\")","v":0},{"$f":"COUNTIFS(Plan1!$C$28:$C$33,Plan2!C36,Plan2!$M$34:$M$39,3)+COUNTIFS(Plan1!$I$28:$I$33,Plan2!C36,Plan2!$N$34:$N$39,3)","v":0},{"$f":"COUNTIFS(Plan1!$C$28:$C$33,Plan2!C36,Plan2!$M$34:$M$39,1)+COUNTIFS(Plan1!$I$28:$I$33,Plan2!C36,Plan2!$N$34:$N$39,1)","v":0},{"$f":"COUNTIFS(Plan1!$C$28:$C$33,Plan2!C36,Plan2!$M$34:$M$39,0)+COUNTIFS(Plan1!$I$28:$I$33,Plan2!C36,Plan2!$N$34:$N$39,0)","v":0},{"$f":"SUMIF(Plan1!$C$28:$C$35,Plan2!C36,Plan1!$E$28:$E$35)+SUMIF(Plan1!$I$28:$I$35,Plan2!C36,Plan1!$G$28:$G$35)","v":0},{"$f":"SUMIF(Plan1!$C$28:$C$35,Plan2!C36,Plan1!$G$28:$G$35)+SUMIF(Plan1!$I$28:$I$35,Plan2!C36,Plan1!$E$28:$E$35)","v":0},0,{"$f":"SUMIF(Plan1!$C$28:$C$35,Plan2!C36,Plan2!$M$34:$M$39)+SUMIF(Plan1!$I$28:$I$35,Plan2!C36,Plan2!$N$34:$N$39)","v":0},null,{"$f":"IF(Plan1!E30=\"\",\"\",IF(Plan1!E30>Plan1!G30,3,IF(Plan1!E30=Plan1!G30,1,0)))","v":""},{"$f":"IF(Plan1!G30=\"\",\"\",IF(Plan1!G30>Plan1!E30,3,IF(Plan1!G30=Plan1!E30,1,0)))","v":""},null,0]
[null,{"$f":"RANK(P37,$P$34:$P$37,0)+COUNTIF($P$33:P36,P37)","v":4},"Nigéria",{"$f":"COUNTIFS(Plan1!$C$28:$C$33,Plan2!C37,Plan1!$E$28:$E$33,\">=0\")+COUNTIFS(Plan1!$I$28:$I$33,Plan2!C37,Plan1!$G$28:$G$33,\">=0\")","v":0},{"$f":"COUNTIFS(Plan1!$C$28:$C$33,Plan2!C37,Plan2!$M$34:$M$39,3)+COUNTIFS(Plan1!$I$28:$I$33,Plan2!C37,Plan2!$N$34:$N$39,3)","v":0},{"$f":"COUNTIFS(Plan1!$C$28:$C$33,Plan2!C37,Plan2!$M$34:$M$39,1)+COUNTIFS(Plan1!$I$28:$I$33,Plan2!C37,Plan2!$N$34:$N$39,1)","v":0},{"$f":"COUNTIFS(Plan1!$C$28:$C$33,Plan2!C37,Plan2!$M$34:$M$39,0)+COUNTIFS(Plan1!$I$28:$I$33,Plan2!C37,Plan2!$N$34:$N$39,0)","v":0},{"$f":"SUMIF(Plan1!$C$28:$C$35,Plan2!C37,Plan1!$E$28:$E$35)+SUMIF(Plan1!$I$28:$I$35,Plan2!C37,Plan1!$G$28:$G$35)","v":0},{"$f":"SUMIF(Plan1!$C$28:$C$35,Plan2!C37,Plan1!$G$28:$G$35)+SUMIF(Plan1!$I$28:$I$35,Plan2!C37,Plan1!$E$28:$E$35)","v":0},0,{"$f":"SUMIF(Plan1!$C$28:$C$35,Plan2!C37,Plan2!$M$34:$M$39)+SUMIF(Plan1!$I$28:$I$35,Plan2!C37,Plan2!$N$34:$N$39)","v":0},null,{"$f":"IF(Plan1!E31=\"\",\"\",IF(Plan1!E31>Plan1!G31,3,IF(Plan1!E31=Plan1!G31,1,0)))","v":""},{"$f":"IF(Plan1!G31=\"\",\"\",IF(Plan1!G31>Plan1!E31,3,IF(Plan1!G31=Plan1!E31,1,0)))","v":""},null,0]
[null,null,null,null,null,null,null,null,null,null,null,null,{"$f":"IF(Plan1!E32=\"\",\"\",IF(Plan1!E32>Plan1!G32,3,IF(Plan1!E32=Plan1!G32,1,0)))","v":""},{"$f":"IF(Plan1!G32=\"\",\"\",IF(Plan1!G32>Plan1!E32,3,IF(Plan1!G32=Plan1!E32,1,0)))","v":""}]
[null,null,null,null,null,null,null,null,null,null,null,null,{"$f":"IF(Plan1!E33=\"\",\"\",IF(Plan1!E33>Plan1!G33,3,IF(Plan1!E33=Plan1!G33,1,0)))","v":""},{"$f":"IF(Plan1!G33=\"\",\"\",IF(Plan1!G33>Plan1!E33,3,IF(Plan1!G33=Plan1!E33,1,0)))","v":""}]
[]
[]
[]
[null,null,"Classificação Grupo E"]
[null,null,"Seleções","JG","V","E","D","GP","GC","SG","PT",null,"Pontos",null,null,"critério para rank"]
[null,{"$f":"RANK(P45,$P$45:$P$48,0)+COUNTIF($P$44:P44,P45)","v":1},"Suíça",{"$f":"COUNTIFS(Plan1!$C$36:$C$41,Plan2!C45,Plan1!$E$36:$E$41,\">=0\")+COUNTIFS(Plan1!$I$36:$I$41,Plan2!C45,Plan1!$G$36:$G$41,\">=0\")","v":0},{"$f":"COUNTIFS(Plan1!$C$36:$C$41,Plan2!C45,Plan2!$M$45:$M$50,3)+COUNTIFS(Plan1!$I$36:$I$41,Plan2!C45,Plan2!$N$45:$N$50,3)","v":0},{"$f":"COUNTIFS(Plan1!$C$36:$C$41,Plan2!C45,Plan2!$M$45:$M$50,1)+COUNTIFS(Plan1!$I$36:$I$41,Plan2!C45,Plan2!$N$45:$N$50,1)","v":0},{"$f":"COUNTIFS(Plan1!$C$36:$C$41,Plan2!C45,Plan2!$M$45:$M$50,0)+COUNTIFS(Plan1!$I$36:$I$41,Plan2!C45,Plan2!$N$45:$N$50,0)","v":0},{"$f":"SUMIF(Plan1!$C$36:$C$41,Plan2!C45,Plan1!$E$36:$E$41)+SUMIF(Plan1!$I$36:$I$41,Plan2!C45,Plan1!$G$36:$G$41)","v":0},{"$f":"SUMIF(Plan1!$C$36:$C$41,Plan2!C45,Plan1!$G$36:$G$41)+SUMIF(Plan1!$I$36:$I$41,Plan2!C45,Plan1!$E$36:$E$41)","v":0},{"$f":"+H45-I45","v":0},{"$f":"SUMIF(Plan1!$C$36:$C$41,Plan2!C45,Plan2!$M$45:$M$50)+SUMIF(Plan1!$I$36:$I$41,Plan2!C45,Plan2!$N$45:$N$50)","v":0},null,{"$f":"IF(Plan1!E36=\"\",\"\",IF(Plan1!E36>Plan1!G36,3,IF(Plan1!E36=Plan1!G36,1,0)))","v":""},{"$f":"IF(Plan1!G36=\"\",\"\",IF(Plan1!G36>Plan1!E36,3,IF(Plan1!G36=Plan1!E36,1,0)))","v":""},null,{"$f":"SUM(K45*1000000+J45*1000+H45*100)","v":0}]
[null,{"$f":"RANK(P46,$P$45:$P$48,0)+COUNTIF($P$44:P45,P46)","v":2},"Brasil",{"$f":"COUNTIFS(Plan1!$C$36:$C$41,Plan2!C46,Plan1!$E$36:$E$41,\">=0\")+COUNTIFS(Plan1!$I$36:$I$41,Plan2!C46,Plan1!$G$36:$G$41,\">=0\")","v":0},{"$f":"COUNTIFS(Plan1!$C$36:$C$41,Plan2!C46,Plan2!$M$45:$M$50,3)+COUNTIFS(Plan1!$I$36:$I$41,Plan2!C46,Plan2!$N$45:$N$50,3)","v":0},{"$f":"COUNTIFS(Plan1!$C$36:$C$41,Plan2!C46,Plan2!$M$45:$M$50,1)+COUNTIFS(Plan1!$I$36:$I$41,Plan2!C46,Plan2!$N$45:$N$50,1)","v":0},{"$f":"COUNTIFS(Plan1!$C$36:$C$41,Plan2!C46,Plan2!$M$45:$M$50,0)+COUNTIFS(Plan1!$I$36:$I$41,Plan2!C46,Plan2!$N$45:$N$50,0)","v":0},{"$f":"SUMIF(Plan1!$C$36:$C$41,Plan2!C46,Plan1!$E$36:$E$41)+SUMIF(Plan1!$I$36:$I$41,Plan2!C46,Plan1!$G$36:$G$41)","v":0},{"$f":"SUMIF(Plan1!$C$36:$C$41,Plan2!C46,Plan1!$G$36:$G$41)+SUMIF(Plan1!$I$36:$I$41,Plan2!C46,Plan1!$E$36:$E$41)","v":0},{"$f":"+H46-I46","v":0},{"$f":"SUMIF(Plan1!$C$36:$C$41,Plan2!C46,Plan2!$M$45:$M$50)+SUMIF(Plan1!$I$36:$I$41,Plan2!C46,Plan2!$N$45:$N$50)","v":0},null,{"$f":"IF(Plan1!E37=\"\",\"\",IF(Plan1!E37>Plan1!G37,3,IF(Plan1!E37=Plan1!G37,1,0)))","v":""},{"$f":"IF(Plan1!G37=\"\",\"\",IF(Plan1!G37>Plan1!E37,3,IF(Plan1!G37=Plan1!E37,1,0)))","v":""},null,{"$f":"SUM(K46*1000000+J46*1000+H46*100)","v":0}]
[null,{"$f":"RANK(P47,$P$45:$P$48,0)+COUNTIF($P$44:P46,P47)","v":3},"Costa Rica",{"$f":"COUNTIFS(Plan1!$C$36:$C$41,Plan2!C47,Plan1!$E$36:$E$41,\">=0\")+COUNTIFS(Plan1!$I$36:$I$41,Plan2!C47,Plan1!$G$36:$G$41,\">=0\")","v":0},{"$f":"COUNTIFS(Plan1!$C$36:$C$41,Plan2!C47,Plan2!$M$45:$M$50,3)+COUNTIFS(Plan1!$I$36:$I$41,Plan2!C47,Plan2!$N$45:$N$50,3)","v":0},{"$f":"COUNTIFS(Plan1!$C$36:$C$41,Plan2!C47,Plan2!$M$45:$M$50,1)+COUNTIFS(Plan1!$I$36:$I$41,Plan2!C47,Plan2!$N$45:$N$50,1)","v":0},{"$f":"COUNTIFS(Plan1!$C$36:$C$41,Plan2!C47,Plan2!$M$45:$M$50,0)+COUNTIFS(Plan1!$I$36:$I$41,Plan2!C47,Plan2!$N$45:$N$50,0)","v":0},{"$f":"SUMIF(Plan1!$C$36:$C$41,Plan2!C47,Plan1!$E$36:$E$41)+SUMIF(Plan1!$I$36:$I$41,Plan2!C47,Plan1!$G$36:$G$41)","v":0},{"$f":"SUMIF(Plan1!$C$36:$C$41,Plan2!C47,Plan1!$G$36:$G$41)+SUMIF(Plan1!$I$36:$I$41,Plan2!C47,Plan1!$E$36:$E$41)","v":0},0,{"$f":"SUMIF(Plan1!$C$36:$C$41,Plan2!C47,Plan2!$M$45:$M$50)+SUMIF(Plan1!$I$36:$I$41,Plan2!C47,Plan2!$N$45:$N$50)","v":0},null,{"$f":"IF(Plan1!E38=\"\",\"\",IF(Plan1!E38>Plan1!G38,3,IF(Plan1!E38=Plan1!G38,1,0)))","v":""},{"$f":"IF(Plan1!G38=\"\",\"\",IF(Plan1!G38>Plan1!E38,3,IF(Plan1!G38=Plan1!E38,1,0)))","v":""},null,0]
[null,{"$f":"RANK(P48,$P$45:$P$48,0)+COUNTIF($P$44:P47,P48)","v":4},"Sérvia",{"$f":"COUNTIFS(Plan1!$C$36:$C$41,Plan2!C48,Plan1!$E$36:$E$41,\">=0\")+COUNTIFS(Plan1!$I$36:$I$41,Plan2!C48,Plan1!$G$36:$G$41,\">=0\")","v":0},{"$f":"COUNTIFS(Plan1!$C$36:$C$41,Plan2!C48,Plan2!$M$45:$M$50,3)+COUNTIFS(Plan1!$I$36:$I$41,Plan2!C48,Plan2!$N$45:$N$50,3)","v":0},{"$f":"COUNTIFS(Plan1!$C$36:$C$41,Plan2!C48,Plan2!$M$45:$M$50,1)+COUNTIFS(Plan1!$I$36:$I$41,Plan2!C48,Plan2!$N$45:$N$50,1)","v":0},{"$f":"COUNTIFS(Plan1!$C$36:$C$41,Plan2!C48,Plan2!$M$45:$M$50,0)+COUNTIFS(Plan1!$I$36:$I$41,Plan2!C48,Plan2!$N$45:$N$50,0)","v":0},{"$f":"SUMIF(Plan1!$C$36:$C$41,Plan2!C48,Plan1!$E$36:$E$41)+SUMIF(Plan1!$I$36:$I$41,Plan2!C48,Plan1!$G$36:$G$41)","v":0},{"$f":"SUMIF(Plan1!$C$36:$C$41,Plan2!C48,Plan1!$G$36:$G$41)+SUMIF(Plan1!$I$36:$I$41,Plan2!C48,Plan1!$E$36:$E$41)","v":0},0,{"$f":"SUMIF(Plan1!$C$36:$C$41,Plan2!C48,Plan2!$M$45:$M$50)+SUMIF(Plan1!$I$36:$I$41,Plan2!C48,Plan2!$N$45:$N$50)","v":0},null,{"$f":"IF(Plan1!E39=\"\",\"\",IF(Plan1!E39>Plan1!G39,3,IF(Plan1!E39=Plan1!G39,1,0)))","v":""},{"$f":"IF(Plan1!G39=\"\",\"\",IF(Plan1!G39>Plan1!E39,3,IF(Plan1!G39=Plan1!E39,1,0)))","v":""},null,0]
[null,null,null,null,null,null,null,null,null,null,null,null,{"$f":"IF(Plan1!E40=\"\",\"\",IF(Plan1!E40>Plan1!G40,3,IF(Plan1!E40=Plan1!G40,1,0)))","v":""},{"$f":"IF(Plan1!G40=\"\",\"\",IF(Plan1!G40>Plan1!E40,3,IF(Plan1!G40=Plan1!E40,1,0)))","v":""}]
[null,null,null,null,null,null,null,null,null,null,null,null,{"$f":"IF(Plan1!E41=\"\",\"\",IF(Plan1!E41>Plan1!G41,3,IF(Plan1!E41=Plan1!G41,1,0)))","v":""},{"$f":"IF(Plan1!G41=\"\",\"\",IF(Plan1!G41>Plan1!E41,3,IF(Plan1!G41=Plan1!E41,1,0)))","v":""}]
[]
[]
[null,null,"Classificação Grupo F"]
[null,null,"Seleções","JG","V","E","D","GP","GC","SG","PT",null,"Pontos",null,null,"critério para rank"]
[null,{"$f":"RANK(P55,$P$55:$P$58,0)+COUNTIF($P$54:P54,P55)","v":1},"Alemanha",{"$f":"COUNTIFS(Plan1!$C$44:$C$49,Plan2!C55,Plan1!$E$44:$E$49,\">=0\")+COUNTIFS(Plan1!$I$44:$I$49,Plan2!C55,Plan1!$G$44:$G$49,\">=0\")","v":0},{"$f":"COUNTIFS(Plan1!$C$44:$C$49,Plan2!C55,Plan2!$M$55:$M$60,3)+COUNTIFS(Plan1!$I$44:$I$49,Plan2!C55,Plan2!$N$55:$N$60,3)","v":0},{"$f":"COUNTIFS(Plan1!$C$44:$C$49,Plan2!C55,Plan2!$M$55:$M$60,1)+COUNTIFS(Plan1!$I$44:$I$49,Plan2!C55,Plan2!$N$55:$N$60,1)","v":0},{"$f":"COUNTIFS(Plan1!$C$44:$C$49,Plan2!C55,Plan2!$M$55:$M$60,0)+COUNTIFS(Plan1!$I$44:$I$49,Plan2!C55,Plan2!$N$55:$N$60,0)","v":0},{"$f":"SUMIF(Plan1!$C$44:$C$49,Plan2!C55,Plan1!$E$44:$E$49)+SUMIF(Plan1!$I$44:$I$49,Plan2!C55,Plan1!$G$44:$G$49)","v":0},{"$f":"SUMIF(Plan1!$C$44:$C$49,Plan2!C55,Plan1!$G$44:$G$49)+SUMIF(Plan1!$I$44:$I$49,Plan2!C55,Plan1!$E$44:$E$49)","v":0},{"$f":"+H55-I55","v":0},{"$f":"SUMIF(Plan1!$C$44:$C$49,Plan2!C55,Plan2!$M$55:$M$60)+SUMIF(Plan1!$I$44:$I$49,Plan2!C55,Plan2!$N$55:$N$60)","v":0},null,{"$f":"IF(Plan1!E44=\"\",\"\",IF(Plan1!E44>Plan1!G44,3,IF(Plan1!E44=Plan1!G44,1,0)))","v":""},{"$f":"IF(Plan1!G44=\"\",\"\",IF(Plan1!G44>Plan1!E44,3,IF(Plan1!G44=Plan1!E44,1,0)))","v":""},null,{"$f":"SUM(K55*1000000+J55*1000+H55*100)","v":0}]
[null,{"$f":"RANK(P56,$P$55:$P$58,0)+COUNTIF($P$54:P55,P56)","v":2},"México",{"$f":"COUNTIFS(Plan1!$C$44:$C$49,Plan2!C56,Plan1!$E$44:$E$49,\">=0\")+COUNTIFS(Plan1!$I$44:$I$49,Plan2!C56,Plan1!$G$44:$G$49,\">=0\")","v":0},{"$f":"COUNTIFS(Plan1!$C$44:$C$49,Plan2!C56,Plan2!$M$55:$M$60,3)+COUNTIFS(Plan1!$I$44:$I$49,Plan2!C56,Plan2!$N$55:$N$60,3)","v":0},{"$f":"COUNTIFS(Plan1!$C$44:$C$49,Plan2!C56,Plan2!$M$55:$M$60,1)+COUNTIFS(Plan1!$I$44:$I$49,Plan2!C56,Plan2!$N$55:$N$60,1)","v":0},{"$f":"COUNTIFS(Plan1!$C$44:$C$49,Plan2!C56,Plan2!$M$55:$M$60,0)+COUNTIFS(Plan1!$I$44:$I$49,Plan2!C56,Plan2!$N$55:$N$60,0)","v":0},{"$f":"SUMIF(Plan1!$C$44:$C$49,Plan2!C56,Plan1!$E$44:$E$49)+SUMIF(Plan1!$I$44:$I$49,Plan2!C56,Plan1!$G$44:$G$49)","v":0},{"$f":"SUMIF(Plan1!$C$44:$C$49,Plan2!C56,Plan1!$G$44:$G$49)+SUMIF(Plan1!$I$44:$I$49,Plan2!C56,Plan1!$E$44:$E$49)","v":0},{"$f":"+H56-I56","v":0},{"$f":"SUMIF(Plan1!$C$44:$C$49,Plan2!C56,Plan2!$M$55:$M$60)+SUMIF(Plan1!$I$44:$I$49,Plan2!C56,Plan2!$N$55:$N$60)","v":0},null,{"$f":"IF(Plan1!E45=\"\",\"\",IF(Plan1!E45>Plan1!G45,3,IF(Plan1!E45=Plan1!G45,1,0)))","v":""},{"$f":"IF(Plan1!G45=\"\",\"\",IF(Plan1!G45>Plan1!E45,3,IF(Plan1!G45=Plan1!E45,1,0)))","v":""},null,{"$f":"SUM(K56*1000000+J56*1000+H56*100)","v":0}]
[null,{"$f":"RANK(P57,$P$55:$P$58,0)+COUNTIF($P$54:P56,P57)","v":3},"Coréia do Sul",{"$f":"COUNTIFS(Plan1!$C$44:$C$49,Plan2!C57,Plan1!$E$44:$E$49,\">=0\")+COUNTIFS(Plan1!$I$44:$I$49,Plan2!C57,Plan1!$G$44:$G$49,\">=0\")","v":0},{"$f":"COUNTIFS(Plan1!$C$44:$C$49,Plan2!C57,Plan2!$M$55:$M$60,3)+COUNTIFS(Plan1!$I$44:$I$49,Plan2!C57,Plan2!$N$55:$N$60,3)","v":0},{"$f":"COUNTIFS(Plan1!$C$44:$C$49,Plan2!C57,Plan2!$M$55:$M$60,1)+COUNTIFS(Plan1!$I$44:$I$49,Plan2!C57,Plan2!$N$55:$N$60,1)","v":0},{"$f":"COUNTIFS(Plan1!$C$44:$C$49,Plan2!C57,Plan2!$M$55:$M$60,0)+COUNTIFS(Plan1!$I$44:$I$49,Plan2!C57,Plan2!$N$55:$N$60,0)","v":0},{"$f":"SUMIF(Plan1!$C$44:$C$49,Plan2!C57,Plan1!$E$44:$E$49)+SUMIF(Plan1!$I$44:$I$49,Plan2!C57,Plan1!$G$44:$G$49)","v":0},{"$f":"SUMIF(Plan1!$C$44:$C$49,Plan2!C57,Plan1!$G$44:$G$49)+SUMIF(Plan1!$I$44:$I$49,Plan2!C57,Plan1!$E$44:$E$49)","v":0},0,{"$f":"SUMIF(Plan1!$C$44:$C$49,Plan2!C57,Plan2!$M$55:$M$60)+SUMIF(Plan1!$I$44:$I$49,Plan2!C57,Plan2!$N$55:$N$60)","v":0},null,{"$f":"IF(Plan1!E46=\"\",\"\",IF(Plan1!E46>Plan1!G46,3,IF(Plan1!E46=Plan1!G46,1,0)))","v":""},{"$f":"IF(Plan1!G46=\"\",\"\",IF(Plan1!G46>Plan1!E46,3,IF(Plan1!G46=Plan1!E46,1,0)))","v":""},null,0]
[null,{"$f":"RANK(P58,$P$55:$P$58,0)+COUNTIF($P$54:P57,P58)","v":4},"Suécia",{"$f":"COUNTIFS(Plan1!$C$44:$C$49,Plan2!C58,Plan1!$E$44:$E$49,\">=0\")+COUNTIFS(Plan1!$I$44:$I$49,Plan2!C58,Plan1!$G$44:$G$49,\">=0\")","v":0},{"$f":"COUNTIFS(Plan1!$C$44:$C$49,Plan2!C58,Plan2!$M$55:$M$60,3)+COUNTIFS(Plan1!$I$44:$I$49,Plan2!C58,Plan2!$N$55:$N$60,3)","v":0},{"$f":"COUNTIFS(Plan1!$C$44:$C$49,Plan2!C58,Plan2!$M$55:$M$60,1)+COUNTIFS(Plan1!$I$44:$I$49,Plan2!C58,Plan2!$N$55:$N$60,1)","v":0},{"$f":"COUNTIFS(Plan1!$C$44:$C$49,Plan2!C58,Plan2!$M$55:$M$60,0)+COUNTIFS(Plan1!$I$44:$I$49,Plan2!C58,Plan2!$N$55:$N$60,0)","v":0},{"$f":"SUMIF(Plan1!$C$44:$C$49,Plan2!C58,Plan1!$E$44:$E$49)+SUMIF(Plan1!$I$44:$I$49,Plan2!C58,Plan1!$G$44:$G$49)","v":0},{"$f":"SUMIF(Plan1!$C$44:$C$49,Plan2!C58,Plan1!$G$44:$G$49)+SUMIF(Plan1!$I$44:$I$49,Plan2!C58,Plan1!$E$44:$E$49)","v":0},0,{"$f":"SUMIF(Plan1!$C$44:$C$49,Plan2!C58,Plan2!$M$55:$M$60)+SUMIF(Plan1!$I$44:$I$49,Plan2!C58,Plan2!$N$55:$N$60)","v":0},null,{"$f":"IF(Plan1!E47=\"\",\"\",IF(Plan1!E47>Plan1!G47,3,IF(Plan1!E47=Plan1!G47,1,0)))","v":""},{"$f":"IF(Plan1!G47=\"\",\"\",IF(Plan1!G47>Plan1!E47,3,IF(Plan1!G47=Plan1!E47,1,0)))","v":""},null,0]
[null,null,null,null,null,null,null,null,null,null,null,null,{"$f":"IF(Plan1!E48=\"\",\"\",IF(Plan1!E48>Plan1!G48,3,IF(Plan1!E48=Plan1!G48,1,0)))","v":""},{"$f":"IF(Plan1!G48=\"\",\"\",IF(Plan1!G48>Plan1!E48,3,IF(Plan1!G48=Plan1!E48,1,0)))","v":""}]
[null,null,null,null,null,null,null,null,null,null,null,null,{"$f":"IF(Plan1!E49=\"\",\"\",IF(Plan1!E49>Plan1!G49,3,IF(Plan1!E49=Plan1!G49,1,0)))","v":""},{"$f":"IF(Plan1!G49=\"\",\"\",IF(Plan1!G49>Plan1!E49,3,IF(Plan1!G49=Plan1!E49,1,0)))","v":""}]
[]
[]
[null,null,"Classificação Grupo G"]
[null,null,"Seleções","JG","V","E","D","GP","GC","SG","PT",null,"Pontos",null,null,"critério para rank"]
[null,{"$f":"RANK(P65,$P$65:$P$68,0)+COUNTIF($P$64:P64,P65)","v":1},"Bélgica",{"$f":"COUNTIFS(Plan1!$C$52:$C$57,Plan2!C65,Plan1!$E$52:$E$57,\">=0\")+COUNTIFS(Plan1!$I$52:$I$57,Plan2!C65,Plan1!$G$52:$G$57,\">=0\")","v":0},{"$f":"COUNTIFS(Plan1!$C$52:$C$57,Plan2!C65,Plan2!$M$65:$M$70,3)+COUNTIFS(Plan1!$I$52:$I$57,Plan2!C65,Plan2!$N$65:$N$70,3)","v":0},{"$f":"COUNTIFS(Plan1!$C$52:$C$57,Plan2!C65,Plan2!$M$65:$M$70,1)+COUNTIFS(Plan1!$I$52:$I$57,Plan2!C65,Plan2!$N$65:$N$70,1)","v":0},{"$f":"COUNTIFS(Plan1!$C$52:$C$57,Plan2!C65,Plan2!$M$65:$M$70,0)+COUNTIFS(Plan1!$I$52:$I$57,Plan2!C65,Plan2!$N$65:$N$70,0)","v":0},{"$f":"SUMIF(Plan1!$C$52:$C$57,Plan2!C65,Plan1!$E$52:$E$57)+SUMIF(Plan1!$I$52:$I$57,Plan2!C65,Plan1!$G$52:$G$57)","v":0},{"$f":"SUMIF(Plan1!$C$52:$C$57,Plan2!C65,Plan1!$G$52:$G$57)+SUMIF(Plan1!$I$52:$I$57,Plan2!C65,Plan1!$E$52:$E$57)","v":0},{"$f":"+H65-I65","v":0},{"$f":"SUMIF(Plan1!$C$52:$C$57,Plan2!C65,Plan2!$M$65:$M$70)+SUMIF(Plan1!$I$52:$I$57,Plan2!C65,Plan2!$N$65:$N$70)","v":0},null,{"$f":"IF(Plan1!E52=\"\",\"\",IF(Plan1!E52>Plan1!G52,3,IF(Plan1!E52=Plan1!G52,1,0)))","v":""},{"$f":"IF(Plan1!G52=\"\",\"\",IF(Plan1!G52>Plan1!E52,3,IF(Plan1!G52=Plan1!E52,1,0)))","v":""},null,{"$f":"SUM(K65*1000000+J65*1000+H65*100)","v":0}]
[null,{"$f":"RANK(P66,$P$65:$P$68,0)+COUNTIF($P$64:P65,P66)","v":2},"Inglaterra",{"$f":"COUNTIFS(Plan1!$C$52:$C$57,Plan2!C66,Plan1!$E$52:$E$57,\">=0\")+COUNTIFS(Plan1!$I$52:$I$57,Plan2!C66,Plan1!$G$52:$G$57,\">=0\")","v":0},{"$f":"COUNTIFS(Plan1!$C$52:$C$57,Plan2!C66,Plan2!$M$65:$M$70,3)+COUNTIFS(Plan1!$I$52:$I$57,Plan2!C66,Plan2!$N$65:$N$70,3)","v":0},{"$f":"COUNTIFS(Plan1!$C$52:$C$57,Plan2!C66,Plan2!$M$65:$M$70,1)+COUNTIFS(Plan1!$I$52:$I$57,Plan2!C66,Plan2!$N$65:$N$70,1)","v":0},{"$f":"COUNTIFS(Plan1!$C$52:$C$57,Plan2!C66,Plan2!$M$65:$M$70,0)+COUNTIFS(Plan1!$I$52:$I$57,Plan2!C66,Plan2!$N$65:$N$70,0)","v":0},{"$f":"SUMIF(Plan1!$C$52:$C$57,Plan2!C66,Plan1!$E$52:$E$57)+SUMIF(Plan1!$I$52:$I$57,Plan2!C66,Plan1!$G$52:$G$57)","v":0},{"$f":"SUMIF(Plan1!$C$52:$C$57,Plan2!C66,Plan1!$G$52:$G$57)+SUMIF(Plan1!$I$52:$I$57,Plan2!C66,Plan1!$E$52:$E$57)","v":0},{"$f":"+H66-I66","v":0},{"$f":"SUMIF(Plan1!$C$52:$C$57,Plan2!C66,Plan2!$M$65:$M$70)+SUMIF(Plan1!$I$52:$I$57,Plan2!C66,Plan2!$N$65:$N$70)","v":0},null,{"$f":"IF(Plan1!E53=\"\",\"\",IF(Plan1!E53>Plan1!G53,3,IF(Plan1!E53=Plan1!G53,1,0)))","v":""},{"$f":"IF(Plan1!G53=\"\",\"\",IF(Plan1!G53>Plan1!E53,3,IF(Plan1!G53=Plan1!E53,1,0)))","v":""},null,{"$f":"SUM(K66*1000000+J66*1000+H66*100)","v":0}]
[null,{"$f":"RANK(P67,$P$65:$P$68,0)+COUNTIF($P$64:P66,P67)","v":3},"Tunísia",{"$f":"COUNTIFS(Plan1!$C$52:$C$57,Plan2!C67,Plan1!$E$52:$E$57,\">=0\")+COUNTIFS(Plan1!$I$52:$I$57,Plan2!C67,Plan1!$G$52:$G$57,\">=0\")","v":0},{"$f":"COUNTIFS(Plan1!$C$52:$C$57,Plan2!C67,Plan2!$M$65:$M$70,3)+COUNTIFS(Plan1!$I$52:$I$57,Plan2!C67,Plan2!$N$65:$N$70,3)","v":0},{"$f":"COUNTIFS(Plan1!$C$52:$C$57,Plan2!C67,Plan2!$M$65:$M$70,1)+COUNTIFS(Plan1!$I$52:$I$57,Plan2!C67,Plan2!$N$65:$N$70,1)","v":0},{"$f":"COUNTIFS(Plan1!$C$52:$C$57,Plan2!C67,Plan2!$M$65:$M$70,0)+COUNTIFS(Plan1!$I$52:$I$57,Plan2!C67,Plan2!$N$65:$N$70,0)","v":0},{"$f":"SUMIF(Plan1!$C$52:$C$57,Plan2!C67,Plan1!$E$52:$E$57)+SUMIF(Plan1!$I$52:$I$57,Plan2!C67,Plan1!$G$52:$G$57)","v":0},{"$f":"SUMIF(Plan1!$C$52:$C$57,Plan2!C67,Plan1!$G$52:$G$57)+SUMIF(Plan1!$I$52:$I$57,Plan2!C67,Plan1!$E$52:$E$57)","v":0},0,{"$f":"SUMIF(Plan1!$C$52:$C$57,Plan2!C67,Plan2!$M$65:$M$70)+SUMIF(Plan1!$I$52:$I$57,Plan2!C67,Plan2!$N$65:$N$70)","v":0},null,{"$f":"IF(Plan1!E54=\"\",\"\",IF(Plan1!E54>Plan1!G54,3,IF(Plan1!E54=Plan1!G54,1,0)))","v":""},{"$f":"IF(Plan1!G54=\"\",\"\",IF(Plan1!G54>Plan1!E54,3,IF(Plan1!G54=Plan1!E54,1,0)))","v":""},null,0]
[null,{"$f":"RANK(P68,$P$65:$P$68,0)+COUNTIF($P$64:P67,P68)","v":4},"Panamá",{"$f":"COUNTIFS(Plan1!$C$52:$C$57,Plan2!C68,Plan1!$E$52:$E$57,\">=0\")+COUNTIFS(Plan1!$I$52:$I$57,Plan2!C68,Plan1!$G$52:$G$57,\">=0\")","v":0},{"$f":"COUNTIFS(Plan1!$C$52:$C$57,Plan2!C68,Plan2!$M$65:$M$70,3)+COUNTIFS(Plan1!$I$52:$I$57,Plan2!C68,Plan2!$N$65:$N$70,3)","v":0},{"$f":"COUNTIFS(Plan1!$C$52:$C$57,Plan2!C68,Plan2!$M$65:$M$70,1)+COUNTIFS(Plan1!$I$52:$I$57,Plan2!C68,Plan2!$N$65:$N$70,1)","v":0},{"$f":"COUNTIFS(Plan1!$C$52:$C$57,Plan2!C68,Plan2!$M$65:$M$70,0)+COUNTIFS(Plan1!$I$52:$I$57,Plan2!C68,Plan2!$N$65:$N$70,0)","v":0},{"$f":"SUMIF(Plan1!$C$52:$C$57,Plan2!C68,Plan1!$E$52:$E$57)+SUMIF(Plan1!$I$52:$I$57,Plan2!C68,Plan1!$G$52:$G$57)","v":0},{"$f":"SUMIF(Plan1!$C$52:$C$57,Plan2!C68,Plan1!$G$52:$G$57)+SUMIF(Plan1!$I$52:$I$57,Plan2!C68,Plan1!$E$52:$E$57)","v":0},0,{"$f":"SUMIF(Plan1!$C$52:$C$57,Plan2!C68,Plan2!$M$65:$M$70)+SUMIF(Plan1!$I$52:$I$57,Plan2!C68,Plan2!$N$65:$N$70)","v":0},null,{"$f":"IF(Plan1!E55=\"\",\"\",IF(Plan1!E55>Plan1!G55,3,IF(Plan1!E55=Plan1!G55,1,0)))","v":""},{"$f":"IF(Plan1!G55=\"\",\"\",IF(Plan1!G55>Plan1!E55,3,IF(Plan1!G55=Plan1!E55,1,0)))","v":""},null,0]
[null,null,null,null,null,null,null,null,null,null,null,null,{"$f":"IF(Plan1!E56=\"\",\"\",IF(Plan1!E56>Plan1!G56,3,IF(Plan1!E56=Plan1!G56,1,0)))","v":""},{"$f":"IF(Plan1!G56=\"\",\"\",IF(Plan1!G56>Plan1!E56,3,IF(Plan1!G56=Plan1!E56,1,0)))","v":""}]
[null,null,null,null,null,null,null,null,null,null,null,null,{"$f":"IF(Plan1!E57=\"\",\"\",IF(Plan1!E57>Plan1!G57,3,IF(Plan1!E57=Plan1!G57,1,0)))","v":""},{"$f":"IF(Plan1!G57=\"\",\"\",IF(Plan1!G57>Plan1!E57,3,IF(Plan1!G57=Plan1!E57,1,0)))","v":""}]
[]
[]
[null,null,"Classificação Grupo H"]
[null,null,"Seleções","JG","V","E","D","GP","GC","SG","PT",null,"Pontos",null,null,"critério para rank"]
[null,{"$f":"RANK(P75,$P$75:$P$78,0)+COUNTIF($P$74:P74,P75)","v":1},"Colômbia",{"$f":"COUNTIFS(Plan1!$C$60:$C$65,Plan2!C75,Plan1!$E$60:$E$65,\">=0\")+COUNTIFS(Plan1!$I$60:$I$65,Plan2!C75,Plan1!$G$60:$G$65,\">=0\")","v":0},{"$f":"COUNTIFS(Plan1!$C$60:$C$65,Plan2!C75,Plan2!$M$75:$M$80,3)+COUNTIFS(Plan1!$I$60:$I$65,Plan2!C75,Plan2!$N$75:$N$80,3)","v":0},{"$f":"COUNTIFS(Plan1!$C$60:$C$65,Plan2!C75,Plan2!$M$75:$M$80,1)+COUNTIFS(Plan1!$I$60:$I$65,Plan2!C75,Plan2!$N$75:$N$80,1)","v":0},{"$f":"COUNTIFS(Plan1!$C$60:$C$65,Plan2!C75,Plan2!$M$75:$M$80,0)+COUNTIFS(Plan1!$I$60:$I$65,Plan2!C75,Plan2!$N$75:$N$80,0)","v":0},{"$f":"SUMIF(Plan1!$C$60:$C$65,Plan2!C75,Plan1!$E$60:$E$65)+SUMIF(Plan1!$I$60:$I$65,Plan2!C75,Plan1!$G$60:$G$65)","v":0},{"$f":"SUMIF(Plan1!$C$60:$C$65,Plan2!C75,Plan1!$G$60:$G$65)+SUMIF(Plan1!$I$60:$I$65,Plan2!C75,Plan1!$E$60:$E$65)","v":0},{"$f":"+H75-I75","v":0},{"$f":"SUMIF(Plan1!$C$60:$C$65,Plan2!C75,Plan2!$M$75:$M$80)+SUMIF(Plan1!$I$60:$I$65,Plan2!C75,Plan2!$N$75:$N$80)","v":0},null,{"$f":"IF(Plan1!E60=\"\",\"\",IF(Plan1!E60>Plan1!G60,3,IF(Plan1!E60=Plan1!G60,1,0)))","v":""},{"$f":"IF(Plan1!G60=\"\",\"\",IF(Plan1!G60>Plan1!E60,3,IF(Plan1!G60=Plan1!E60,1,0)))","v":""},null,{"$f":"SUM(K75*1000000+J75*1000+H75*100)","v":0}]
[null,{"$f":"RANK(P76,$P$75:$P$78,0)+COUNTIF($P$74:P75,P76)","v":2},"Polônia",{"$f":"COUNTIFS(Plan1!$C$60:$C$65,Plan2!C76,Plan1!$E$60:$E$65,\">=0\")+COUNTIFS(Plan1!$I$60:$I$65,Plan2!C76,Plan1!$G$60:$G$65,\">=0\")","v":0},{"$f":"COUNTIFS(Plan1!$C$60:$C$65,Plan2!C76,Plan2!$M$75:$M$80,3)+COUNTIFS(Plan1!$I$60:$I$65,Plan2!C76,Plan2!$N$75:$N$80,3)","v":0},{"$f":"COUNTIFS(Plan1!$C$60:$C$65,Plan2!C76,Plan2!$M$75:$M$80,1)+COUNTIFS(Plan1!$I$60:$I$65,Plan2!C76,Plan2!$N$75:$N$80,1)","v":0},{"$f":"COUNTIFS(Plan1!$C$60:$C$65,Plan2!C76,Plan2!$M$75:$M$80,0)+COUNTIFS(Plan1!$I$60:$I$65,Plan2!C76,Plan2!$N$75:$N$80,0)","v":0},{"$f":"SUMIF(Plan1!$C$60:$C$65,Plan2!C76,Plan1!$E$60:$E$65)+SUMIF(Plan1!$I$60:$I$65,Plan2!C76,Plan1!$G$60:$G$65)","v":0},{"$f":"SUMIF(Plan1!$C$60:$C$65,Plan2!C76,Plan1!$G$60:$G$65)+SUMIF(Plan1!$I$60:$I$65,Plan2!C76,Plan1!$E$60:$E$65)","v":0},{"$f":"+H76-I76","v":0},{"$f":"SUMIF(Plan1!$C$60:$C$65,Plan2!C76,Plan2!$M$75:$M$80)+SUMIF(Plan1!$I$60:$I$65,Plan2!C76,Plan2!$N$75:$N$80)","v":0},null,{"$f":"IF(Plan1!E61=\"\",\"\",IF(Plan1!E61>Plan1!G61,3,IF(Plan1!E61=Plan1!G61,1,0)))","v":""},{"$f":"IF(Plan1!G61=\"\",\"\",IF(Plan1!G61>Plan1!E61,3,IF(Plan1!G61=Plan1!E61,1,0)))","v":""},null,{"$f":"SUM(K76*1000000+J76*1000+H76*100)","v":0}]
[null,{"$f":"RANK(P77,$P$75:$P$78,0)+COUNTIF($P$74:P76,P77)","v":3},"Japão",{"$f":"COUNTIFS(Plan1!$C$60:$C$65,Plan2!C77,Plan1!$E$60:$E$65,\">=0\")+COUNTIFS(Plan1!$I$60:$I$65,Plan2!C77,Plan1!$G$60:$G$65,\">=0\")","v":0},{"$f":"COUNTIFS(Plan1!$C$60:$C$65,Plan2!C77,Plan2!$M$75:$M$80,3)+COUNTIFS(Plan1!$I$60:$I$65,Plan2!C77,Plan2!$N$75:$N$80,3)","v":0},{"$f":"COUNTIFS(Plan1!$C$60:$C$65,Plan2!C77,Plan2!$M$75:$M$80,1)+COUNTIFS(Plan1!$I$60:$I$65,Plan2!C77,Plan2!$N$75:$N$80,1)","v":0},{"$f":"COUNTIFS(Plan1!$C$60:$C$65,Plan2!C77,Plan2!$M$75:$M$80,0)+COUNTIFS(Plan1!$I$60:$I$65,Plan2!C77,Plan2!$N$75:$N$80,0)","v":0},{"$f":"SUMIF(Plan1!$C$60:$C$65,Plan2!C77,Plan1!$E$60:$E$65)+SUMIF(Plan1!$I$60:$I$65,Plan2!C77,Plan1!$G$60:$G$65)","v":0},{"$f":"SUMIF(Plan1!$C$60:$C$65,Plan2!C77,Plan1!$G$60:$G$65)+SUMIF(Plan1!$I$60:$I$65,Plan2!C77,Plan1!$E$60:$E$65)","v":0},0,{"$f":"SUMIF(Plan1!$C$60:$C$65,Plan2!C77,Plan2!$M$75:$M$80)+SUMIF(Plan1!$I$60:$I$65,Plan2!C77,Plan2!$N$75:$N$80)","v":0},null,{"$f":"IF(Plan1!E62=\"\",\"\",IF(Plan1!E62>Plan1!G62,3,IF(Plan1!E62=Plan1!G62,1,0)))","v":""},{"$f":"IF(Plan1!G62=\"\",\"\",IF(Plan1!G62>Plan1!E62,3,IF(Plan1!G62=Plan1!E62,1,0)))","v":""},null,0]
[null,{"$f":"RANK(P78,$P$75:$P$78,0)+COUNTIF($P$74:P77,P78)","v":4},"Senegal",{"$f":"COUNTIFS(Plan1!$C$60:$C$65,Plan2!C78,Plan1!$E$60:$E$65,\">=0\")+COUNTIFS(Plan1!$I$60:$I$65,Plan2!C78,Plan1!$G$60:$G$65,\">=0\")","v":0},{"$f":"COUNTIFS(Plan1!$C$60:$C$65,Plan2!C78,Plan2!$M$75:$M$80,3)+COUNTIFS(Plan1!$I$60:$I$65,Plan2!C78,Plan2!$N$75:$N$80,3)","v":0},{"$f":"COUNTIFS(Plan1!$C$60:$C$65,Plan2!C78,Plan2!$M$75:$M$80,1)+COUNTIFS(Plan1!$I$60:$I$65,Plan2!C78,Plan2!$N$75:$N$80,1)","v":0},{"$f":"COUNTIFS(Plan1!$C$60:$C$65,Plan2!C78,Plan2!$M$75:$M$80,0)+COUNTIFS(Plan1!$I$60:$I$65,Plan2!C78,Plan2!$N$75:$N$80,0)","v":0},{"$f":"SUMIF(Plan1!$C$60:$C$65,Plan2!C78,Plan1!$E$60:$E$65)+SUMIF(Plan1!$I$60:$I$65,Plan2!C78,Plan1!$G$60:$G$65)","v":0},{"$f":"SUMIF(Plan1!$C$60:$C$65,Plan2!C78,Plan1!$G$60:$G$65)+SUMIF(Plan1!$I$60:$I$65,Plan2!C78,Plan1!$E$60:$E$65)","v":0},0,{"$f":"SUMIF(Plan1!$C$60:$C$65,Plan2!C78,Plan2!$M$75:$M$80)+SUMIF(Plan1!$I$60:$I$65,Plan2!C78,Plan2!$N$75:$N$80)","v":0},null,{"$f":"IF(Plan1!E63=\"\",\"\",IF(Plan1!E63>Plan1!G63,3,IF(Plan1!E63=Plan1!G63,1,0)))","v":""},{"$f":"IF(Plan1!G63=\"\",\"\",IF(Plan1!G63>Plan1!E63,3,IF(Plan1!G63=Plan1!E63,1,0)))","v":""},null,0]
[null,null,null,null,null,null,null,null,null,null,null,null,{"$f":"IF(Plan1!E64=\"\",\"\",IF(Plan1!E64>Plan1!G64,3,IF(Plan1!E64=Plan1!G64,1,0)))","v":""},{"$f":"IF(Plan1!G64=\"\",\"\",IF(Plan1!G64>Plan1!E64,3,IF(Plan1!G64=Plan1!E64,1,0)))","v":""}]
[null,null,null,null,null,null,null,null,null,null,null,null,{"$f":"IF(Plan1!E65=\"\",\"\",IF(Plan1!E65>Plan1!G65,3,IF(Plan1!E65=Plan1!G65,1,0)))","v":""},{"$f":"IF(Plan1!G65=\"\",\"\",IF(Plan1!G65>Plan1!E65,3,IF(Plan1!G65=Plan1!E65,1,0)))","v":""}]